BEGIN:VCALENDAR
VERSION:2.0
PRODID:-//48° North - ECPv6.15.13.1//NONSGML v1.0//EN
CALSCALE:GREGORIAN
METHOD:PUBLISH
X-ORIGINAL-URL:https://48north.com
X-WR-CALDESC:Events for 48° North
REFRESH-INTERVAL;VALUE=DURATION:PT1H
X-Robots-Tag:noindex
X-PUBLISHED-TTL:PT1H
BEGIN:VTIMEZONE
TZID:America/Los_Angeles
BEGIN:DAYLIGHT
TZOFFSETFROM:-0800
TZOFFSETTO:-0700
TZNAME:PDT
DTSTART:20250309T100000
END:DAYLIGHT
BEGIN:STANDARD
TZOFFSETFROM:-0700
TZOFFSETTO:-0800
TZNAME:PST
DTSTART:20251102T090000
END:STANDARD
BEGIN:DAYLIGHT
TZOFFSETFROM:-0800
TZOFFSETTO:-0700
TZNAME:PDT
DTSTART:20260308T100000
END:DAYLIGHT
BEGIN:STANDARD
TZOFFSETFROM:-0700
TZOFFSETTO:-0800
TZNAME:PST
DTSTART:20261101T090000
END:STANDARD
BEGIN:DAYLIGHT
TZOFFSETFROM:-0800
TZOFFSETTO:-0700
TZNAME:PDT
DTSTART:20270314T100000
END:DAYLIGHT
BEGIN:STANDARD
TZOFFSETFROM:-0700
TZOFFSETTO:-0800
TZNAME:PST
DTSTART:20271107T090000
END:STANDARD
END:VTIMEZONE
BEGIN:VEVENT
DTSTART;VALUE=DATE:20260919
DTEND;VALUE=DATE:20260921
DTSTAMP:20260420T181027
CREATED:20260101T000007Z
LAST-MODIFIED:20260101T000007Z
UID:10002277-1789776000-1789948799@48north.com
SUMMARY:Caleb Tarleton Memorial Regatta (SSP)
DESCRIPTION:
URL:https://48north.com/event-calendar/caleb-tarleton-memorial-regatta-ssp-3/
CATEGORIES:Sailboat Races (SARC)
END:VEVENT
BEGIN:VEVENT
DTSTART;VALUE=DATE:20260919
DTEND;VALUE=DATE:20260921
DTSTAMP:20260420T181027
CREATED:20260101T000008Z
LAST-MODIFIED:20260101T000008Z
UID:10002278-1789776000-1789948799@48north.com
SUMMARY:Lake Chelan Regatta
DESCRIPTION:
URL:https://48north.com/event-calendar/lake-chelan-regatta/
CATEGORIES:Sailboat Races (SARC)
END:VEVENT
BEGIN:VEVENT
DTSTART;VALUE=DATE:20260919
DTEND;VALUE=DATE:20260921
DTSTAMP:20260420T181027
CREATED:20260101T000008Z
LAST-MODIFIED:20260101T000008Z
UID:10002279-1789776000-1789948799@48north.com
SUMMARY:Round the Island Race
DESCRIPTION:
URL:https://48north.com/event-calendar/round-the-island-race-7/
CATEGORIES:Sailboat Races (SARC)
ORGANIZER;CN="Port Madison Yacht Club":MAILTO:PMYCinfo@portmadisonyc.org
END:VEVENT
BEGIN:VEVENT
DTSTART;VALUE=DATE:20260919
DTEND;VALUE=DATE:20260921
DTSTAMP:20260420T181027
CREATED:20260101T000009Z
LAST-MODIFIED:20260101T000009Z
UID:10002280-1789776000-1789948799@48north.com
SUMMARY:Women's Invitational Regatta
DESCRIPTION:
URL:https://48north.com/event-calendar/womens-invitational-regatta-2/
CATEGORIES:Sailboat Races (SARC)
END:VEVENT
BEGIN:VEVENT
DTSTART;VALUE=DATE:20260919
DTEND;VALUE=DATE:20260921
DTSTAMP:20260420T181027
CREATED:20260101T000009Z
LAST-MODIFIED:20260101T000009Z
UID:10002281-1789776000-1789948799@48north.com
SUMMARY:Star & Bar Match Race Series\, Final (Invitational)
DESCRIPTION:
URL:https://48north.com/event-calendar/star-bar-match-race-series-final-invitational-2/
CATEGORIES:Sailboat Races (SARC)
ORGANIZER;CN="Seattle Yacht Club":MAILTO:syccom@seattleyachtclub.org
END:VEVENT
BEGIN:VEVENT
DTSTART;VALUE=DATE:20260919
DTEND;VALUE=DATE:20260921
DTSTAMP:20260420T181027
CREATED:20260101T000107Z
LAST-MODIFIED:20260101T000107Z
UID:10002282-1789776000-1789948799@48north.com
SUMMARY:Men's Fall Stag Race
DESCRIPTION:
URL:https://48north.com/event-calendar/mens-fall-stag-race/
CATEGORIES:Sailboat Races (SARC)
END:VEVENT
BEGIN:VEVENT
DTSTART;VALUE=DATE:20260920
DTEND;VALUE=DATE:20260921
DTSTAMP:20260420T181027
CREATED:20260101T000108Z
LAST-MODIFIED:20260101T000108Z
UID:10002283-1789862400-1789948799@48north.com
SUMMARY:Halloween Series #4
DESCRIPTION:
URL:https://48north.com/event-calendar/halloween-series-4-7/
CATEGORIES:Sailboat Races (SARC)
ORGANIZER;CN="Corinthian Yacht Club of Edmonds":MAILTO:cycofedmonds@gmail.com
END:VEVENT
BEGIN:VEVENT
DTSTART;VALUE=DATE:20260920
DTEND;VALUE=DATE:20260921
DTSTAMP:20260420T181027
CREATED:20260101T000108Z
LAST-MODIFIED:20260101T000108Z
UID:10002284-1789862400-1789948799@48north.com
SUMMARY:Robert A Smith Regatta
DESCRIPTION:
URL:https://48north.com/event-calendar/robert-a-smith-regatta-7/
CATEGORIES:Sailboat Races (SARC)
ORGANIZER;CN="Portland Yacht Club":MAILTO:admin@portlandyc.com
END:VEVENT
BEGIN:VEVENT
DTSTART;VALUE=DATE:20260920
DTEND;VALUE=DATE:20260921
DTSTAMP:20260420T181027
CREATED:20260101T000109Z
LAST-MODIFIED:20260101T000109Z
UID:10002285-1789862400-1789948799@48north.com
SUMMARY:Race Your House
DESCRIPTION:
URL:https://48north.com/event-calendar/race-your-house-7/
CATEGORIES:Sailboat Races (SARC)
ORGANIZER;CN="Sloop Tavern Yacht Club":MAILTO:commodore@styc.org
END:VEVENT
BEGIN:VEVENT
DTSTART;VALUE=DATE:20260926
DTEND;VALUE=DATE:20260927
DTSTAMP:20260420T181027
CREATED:20260101T000109Z
LAST-MODIFIED:20260101T000109Z
UID:10002286-1790380800-1790467199@48north.com
SUMMARY:Cone Island Race
DESCRIPTION:
URL:https://48north.com/event-calendar/cone-island-race-3/
CATEGORIES:Sailboat Races (SARC)
ORGANIZER;CN="Anacortes Yacht Club":MAILTO:bill@sdajnw.com
END:VEVENT
BEGIN:VEVENT
DTSTART;VALUE=DATE:20260926
DTEND;VALUE=DATE:20260927
DTSTAMP:20260420T181027
CREATED:20260101T000208Z
LAST-MODIFIED:20260101T000208Z
UID:10002287-1790380800-1790467199@48north.com
SUMMARY:Rum Run
DESCRIPTION:
URL:https://48north.com/event-calendar/rum-run-7/
CATEGORIES:Sailboat Races (SARC)
END:VEVENT
BEGIN:VEVENT
DTSTART;VALUE=DATE:20260926
DTEND;VALUE=DATE:20260927
DTSTAMP:20260420T181027
CREATED:20260101T000208Z
LAST-MODIFIED:20260101T000208Z
UID:10002288-1790380800-1790467199@48north.com
SUMMARY:Autumn Series 1
DESCRIPTION:
URL:https://48north.com/event-calendar/autumn-series-1-3/
CATEGORIES:Sailboat Races (SARC)
ORGANIZER;CN="Milltown Sailing Association":MAILTO:info@milltownsailing.org
END:VEVENT
BEGIN:VEVENT
DTSTART;VALUE=DATE:20260926
DTEND;VALUE=DATE:20260927
DTSTAMP:20260420T181027
CREATED:20260101T000209Z
LAST-MODIFIED:20260101T000209Z
UID:10002289-1790380800-1790467199@48north.com
SUMMARY:Nightcap Series 3
DESCRIPTION:
URL:https://48north.com/event-calendar/nightcap-series-3-6/
CATEGORIES:Sailboat Races (SARC)
ORGANIZER;CN="Port Townsend Sailing Association":MAILTO:info@ptsail.org
END:VEVENT
BEGIN:VEVENT
DTSTART;VALUE=DATE:20260926
DTEND;VALUE=DATE:20260927
DTSTAMP:20260420T181027
CREATED:20260101T000210Z
LAST-MODIFIED:20260101T000210Z
UID:10002290-1790380800-1790467199@48north.com
SUMMARY:Fall Series Race #3
DESCRIPTION:
URL:https://48north.com/event-calendar/fall-series-race-3-7/
CATEGORIES:Sailboat Races (SARC)
ORGANIZER;CN="South Sound Sailing Society":MAILTO:info@ssssclub.com
END:VEVENT
BEGIN:VEVENT
DTSTART;VALUE=DATE:20260926
DTEND;VALUE=DATE:20260927
DTSTAMP:20260420T181027
CREATED:20260101T000210Z
LAST-MODIFIED:20260101T000210Z
UID:10002291-1790380800-1790467199@48north.com
SUMMARY:Commodore’s Trophy Race
DESCRIPTION:
URL:https://48north.com/event-calendar/commodores-trophy-race-7/
CATEGORIES:Sailboat Races (SARC)
END:VEVENT
BEGIN:VEVENT
DTSTART;VALUE=DATE:20260926
DTEND;VALUE=DATE:20260927
DTSTAMP:20260420T181027
CREATED:20260101T000827Z
LAST-MODIFIED:20260101T000827Z
UID:10002292-1790380800-1790467199@48north.com
SUMMARY:Mosquito Fleet Mayhem
DESCRIPTION:
URL:https://48north.com/event-calendar/mosquito-fleet-mayhem-3/
CATEGORIES:Sailboat Races (SARC)
ORGANIZER;CN="West Sound Corinthian Yacht Club":MAILTO:wscyc@wscyc.net
END:VEVENT
BEGIN:VEVENT
DTSTART;VALUE=DATE:20260926
DTEND;VALUE=DATE:20260928
DTSTAMP:20260420T181027
CREATED:20260101T000827Z
LAST-MODIFIED:20260101T000827Z
UID:10002293-1790380800-1790553599@48north.com
SUMMARY:J/Fest
DESCRIPTION:
URL:https://48north.com/event-calendar/j-fest-7/
CATEGORIES:Sailboat Races (SARC)
ORGANIZER;CN="Corinthian Yacht Club of Seattle":MAILTO:office@cycseattle.org
END:VEVENT
BEGIN:VEVENT
DTSTART;VALUE=DATE:20260926
DTEND;VALUE=DATE:20260928
DTSTAMP:20260420T181027
CREATED:20260101T000828Z
LAST-MODIFIED:20260101T000828Z
UID:10002294-1790380800-1790553599@48north.com
SUMMARY:Puget Sound Sailing Championship (Small Boats) (48N Top 25)
DESCRIPTION:
URL:https://48north.com/event-calendar/puget-sound-sailing-championship-small-boats-48n-top-25-4/
CATEGORIES:Sailboat Races (SARC)
ORGANIZER;CN="Corinthian Yacht Club of Seattle":MAILTO:office@cycseattle.org
END:VEVENT
BEGIN:VEVENT
DTSTART;VALUE=DATE:20260926
DTEND;VALUE=DATE:20260928
DTSTAMP:20260420T181027
CREATED:20260101T000828Z
LAST-MODIFIED:20260101T000828Z
UID:10002295-1790380800-1790553599@48north.com
SUMMARY:One Design Regatta
DESCRIPTION:
URL:https://48north.com/event-calendar/one-design-regatta-28/
CATEGORIES:Sailboat Races (SARC)
END:VEVENT
BEGIN:VEVENT
DTSTART;VALUE=DATE:20260926
DTEND;VALUE=DATE:20260928
DTSTAMP:20260420T181027
CREATED:20260101T000828Z
LAST-MODIFIED:20260101T000828Z
UID:10002296-1790380800-1790553599@48north.com
SUMMARY:Fall Dinghy Regatta
DESCRIPTION:
URL:https://48north.com/event-calendar/fall-dinghy-regatta-3/
CATEGORIES:Sailboat Races (SARC)
ORGANIZER;CN="Royal Victoria Yacht Club":MAILTO:info@rvyc.ca
END:VEVENT
BEGIN:VEVENT
DTSTART;VALUE=DATE:20260926
DTEND;VALUE=DATE:20260928
DTSTAMP:20260420T181027
CREATED:20260101T000840Z
LAST-MODIFIED:20260101T000840Z
UID:10002297-1790380800-1790553599@48north.com
SUMMARY:Howe Sound Regatta (VARC)
DESCRIPTION:
URL:https://48north.com/event-calendar/howe-sound-regatta-varc-7/
CATEGORIES:Sailboat Races (SARC)
END:VEVENT
BEGIN:VEVENT
DTSTART;VALUE=DATE:20261003
DTEND;VALUE=DATE:20261004
DTSTAMP:20260420T181027
CREATED:20260101T000840Z
LAST-MODIFIED:20260101T000840Z
UID:10002298-1790985600-1791071999@48north.com
SUMMARY:Foulweather Bluff (48N Top 25)
DESCRIPTION:
URL:https://48north.com/event-calendar/foulweather-bluff-48n-top-25-7/
CATEGORIES:Sailboat Races (SARC)
ORGANIZER;CN="Corinthian Yacht Club of Edmonds":MAILTO:cycofedmonds@gmail.com
END:VEVENT
BEGIN:VEVENT
DTSTART;VALUE=DATE:20261003
DTEND;VALUE=DATE:20261004
DTSTAMP:20260420T181027
CREATED:20260101T000841Z
LAST-MODIFIED:20260101T000841Z
UID:10002299-1790985600-1791071999@48north.com
SUMMARY:Memorial Single/Doublehanded Race
DESCRIPTION:
URL:https://48north.com/event-calendar/memorial-single-doublehanded-race-2/
CATEGORIES:Sailboat Races (SARC)
ORGANIZER;CN="Corinthian Yacht Club of Tacoma":MAILTO:commodore@cyct.com
END:VEVENT
BEGIN:VEVENT
DTSTART;VALUE=DATE:20261003
DTEND;VALUE=DATE:20261004
DTSTAMP:20260420T181027
CREATED:20260101T000841Z
LAST-MODIFIED:20260101T000841Z
UID:10002300-1790985600-1791071999@48north.com
SUMMARY:Benson Cup
DESCRIPTION:
URL:https://48north.com/event-calendar/benson-cup-7/
CATEGORIES:Sailboat Races (SARC)
END:VEVENT
BEGIN:VEVENT
DTSTART;VALUE=DATE:20261003
DTEND;VALUE=DATE:20261004
DTSTAMP:20260420T181027
CREATED:20260101T000842Z
LAST-MODIFIED:20260101T000842Z
UID:10002301-1790985600-1791071999@48north.com
SUMMARY:Nightcap Series 4
DESCRIPTION:
URL:https://48north.com/event-calendar/nightcap-series-4-6/
CATEGORIES:Sailboat Races (SARC)
ORGANIZER;CN="Port Townsend Sailing Association":MAILTO:info@ptsail.org
END:VEVENT
BEGIN:VEVENT
DTSTART;VALUE=DATE:20261003
DTEND;VALUE=DATE:20261004
DTSTAMP:20260420T181027
CREATED:20260101T001154Z
LAST-MODIFIED:20260101T001154Z
UID:10002302-1790985600-1791071999@48north.com
SUMMARY:Fraser River Lightship Race (VARC)
DESCRIPTION:
URL:https://48north.com/event-calendar/fraser-river-lightship-race-varc-6/
CATEGORIES:Sailboat Races (SARC)
END:VEVENT
BEGIN:VEVENT
DTSTART;VALUE=DATE:20261003
DTEND;VALUE=DATE:20261004
DTSTAMP:20260420T181027
CREATED:20260101T001154Z
LAST-MODIFIED:20260101T001154Z
UID:10002303-1790985600-1791071999@48north.com
SUMMARY:Race to Fight Hunger (Northwest Harvest)
DESCRIPTION:
URL:https://48north.com/event-calendar/race-to-fight-hunger-northwest-harvest/
CATEGORIES:Sailboat Races (SARC)
ORGANIZER;CN="Seattle Singles Yacht Club":MAILTO:info@seattlesinglesyc.com
END:VEVENT
BEGIN:VEVENT
DTSTART;VALUE=DATE:20261003
DTEND;VALUE=DATE:20261005
DTSTAMP:20260420T181027
CREATED:20260101T001155Z
LAST-MODIFIED:20260101T001155Z
UID:10002304-1790985600-1791158399@48north.com
SUMMARY:Scott Cline Memorial Regatta
DESCRIPTION:
URL:https://48north.com/event-calendar/scott-cline-memorial-regatta-7/
CATEGORIES:Sailboat Races (SARC)
END:VEVENT
BEGIN:VEVENT
DTSTART;VALUE=DATE:20261003
DTEND;VALUE=DATE:20261005
DTSTAMP:20260420T181027
CREATED:20260101T001156Z
LAST-MODIFIED:20260101T001156Z
UID:10002305-1790985600-1791158399@48north.com
SUMMARY:Thermopylae Regatta (VIRS)
DESCRIPTION:
URL:https://48north.com/event-calendar/thermopylae-regatta-virs/
CATEGORIES:Sailboat Races (SARC)
ORGANIZER;CN="Royal Victoria Yacht Club":MAILTO:info@rvyc.ca
END:VEVENT
BEGIN:VEVENT
DTSTART;VALUE=DATE:20261004
DTEND;VALUE=DATE:20261005
DTSTAMP:20260420T181027
CREATED:20260101T001156Z
LAST-MODIFIED:20260101T001156Z
UID:10002306-1791072000-1791158399@48north.com
SUMMARY:Penguin Cup 3
DESCRIPTION:
URL:https://48north.com/event-calendar/penguin-cup-3-2/
CATEGORIES:Sailboat Races (SARC)
END:VEVENT
END:VCALENDAR