BEGIN:VCALENDAR
VERSION:2.0
PRODID:-//48° North - ECPv6.15.13.1//NONSGML v1.0//EN
CALSCALE:GREGORIAN
METHOD:PUBLISH
X-ORIGINAL-URL:https://48north.com
X-WR-CALDESC:Events for 48° North
REFRESH-INTERVAL;VALUE=DURATION:PT1H
X-Robots-Tag:noindex
X-PUBLISHED-TTL:PT1H
BEGIN:VTIMEZONE
TZID:America/Los_Angeles
BEGIN:DAYLIGHT
TZOFFSETFROM:-0800
TZOFFSETTO:-0700
TZNAME:PDT
DTSTART:20240310T100000
END:DAYLIGHT
BEGIN:STANDARD
TZOFFSETFROM:-0700
TZOFFSETTO:-0800
TZNAME:PST
DTSTART:20241103T090000
END:STANDARD
BEGIN:DAYLIGHT
TZOFFSETFROM:-0800
TZOFFSETTO:-0700
TZNAME:PDT
DTSTART:20250309T100000
END:DAYLIGHT
BEGIN:STANDARD
TZOFFSETFROM:-0700
TZOFFSETTO:-0800
TZNAME:PST
DTSTART:20251102T090000
END:STANDARD
BEGIN:DAYLIGHT
TZOFFSETFROM:-0800
TZOFFSETTO:-0700
TZNAME:PDT
DTSTART:20260308T100000
END:DAYLIGHT
BEGIN:STANDARD
TZOFFSETFROM:-0700
TZOFFSETTO:-0800
TZNAME:PST
DTSTART:20261101T090000
END:STANDARD
BEGIN:DAYLIGHT
TZOFFSETFROM:-0800
TZOFFSETTO:-0700
TZNAME:PDT
DTSTART:20270314T100000
END:DAYLIGHT
BEGIN:STANDARD
TZOFFSETFROM:-0700
TZOFFSETTO:-0800
TZNAME:PST
DTSTART:20271107T090000
END:STANDARD
END:VTIMEZONE
BEGIN:VEVENT
DTSTART;VALUE=DATE:20251115
DTEND;VALUE=DATE:20251116
DTSTAMP:20260422T193802
CREATED:20250101T040147Z
LAST-MODIFIED:20250101T040147Z
UID:10001978-1763164800-1763251199@48north.com
SUMMARY:LeMans Race
DESCRIPTION:
URL:https://48north.com/event-calendar/lemans-race-6/
CATEGORIES:Sailboat Races (SARC)
ORGANIZER;CN="Gig Harbor Yacht Club":MAILTO:Webmaster@gigharboryc.com
END:VEVENT
BEGIN:VEVENT
DTSTART;VALUE=DATE:20251115
DTEND;VALUE=DATE:20251116
DTSTAMP:20260422T193802
CREATED:20250101T040147Z
LAST-MODIFIED:20250101T040147Z
UID:10001979-1763164800-1763251199@48north.com
SUMMARY:Snowbird #1
DESCRIPTION:
URL:https://48north.com/event-calendar/snowbird-1-6/
CATEGORIES:Sailboat Races (SARC)
ORGANIZER;CN="Shilshole Bay Yacht Club":MAILTO:vancouverinfo@canadianboatshows.com
END:VEVENT
BEGIN:VEVENT
DTSTART;VALUE=DATE:20251116
DTEND;VALUE=DATE:20251117
DTSTAMP:20260422T193802
CREATED:20250101T040148Z
LAST-MODIFIED:20250101T040148Z
UID:10001980-1763251200-1763337599@48north.com
SUMMARY:Snowflake Fall Series\, Race 2
DESCRIPTION:
URL:https://48north.com/event-calendar/snowflake-fall-series-race-2/
CATEGORIES:Sailboat Races (SARC)
END:VEVENT
BEGIN:VEVENT
DTSTART;VALUE=DATE:20251122
DTEND;VALUE=DATE:20251123
DTSTAMP:20260422T193802
CREATED:20250101T040246Z
LAST-MODIFIED:20250101T040246Z
UID:10001981-1763769600-1763855999@48north.com
SUMMARY:Autumn Series 5
DESCRIPTION:
URL:https://48north.com/event-calendar/autumn-series-5-2/
CATEGORIES:Sailboat Races (SARC)
ORGANIZER;CN="Milltown Sailing Association":MAILTO:info@milltownsailing.org
END:VEVENT
BEGIN:VEVENT
DTSTART;VALUE=DATE:20251122
DTEND;VALUE=DATE:20251123
DTSTAMP:20260422T193802
CREATED:20250101T040246Z
LAST-MODIFIED:20250101T040246Z
UID:10001982-1763769600-1763855999@48north.com
SUMMARY:Squaxin Island Race
DESCRIPTION:
URL:https://48north.com/event-calendar/squaxin-island-race-6/
CATEGORIES:Sailboat Races (SARC)
ORGANIZER;CN="South Sound Sailing Society":MAILTO:info@ssssclub.com
END:VEVENT
BEGIN:VEVENT
DTSTART;VALUE=DATE:20251122
DTEND;VALUE=DATE:20251123
DTSTAMP:20260422T193802
CREATED:20250101T040247Z
LAST-MODIFIED:20250101T040247Z
UID:10001983-1763769600-1763855999@48north.com
SUMMARY:Fowl Weather Regatta
DESCRIPTION:
URL:https://48north.com/event-calendar/fowl-weather-regatta-6/
CATEGORIES:Sailboat Races (SARC)
ORGANIZER;CN="West Sound Corinthian Yacht Club":MAILTO:wscyc@wscyc.net
END:VEVENT
BEGIN:VEVENT
DTSTART;VALUE=DATE:20251122
DTEND;VALUE=DATE:20251124
DTSTAMP:20260422T193802
CREATED:20250101T040247Z
LAST-MODIFIED:20250101T040247Z
UID:10001984-1763769600-1763942399@48north.com
SUMMARY:Turkey Bowl
DESCRIPTION:
URL:https://48north.com/event-calendar/turkey-bowl-6/
CATEGORIES:Sailboat Races (SARC)
ORGANIZER;CN="Corinthian Yacht Club of Seattle":MAILTO:office@cycseattle.org
END:VEVENT
BEGIN:VEVENT
DTSTART;VALUE=DATE:20251128
DTEND;VALUE=DATE:20251201
DTSTAMP:20260422T193802
CREATED:20250101T040247Z
LAST-MODIFIED:20250101T040247Z
UID:10001985-1764288000-1764547199@48north.com
SUMMARY:Pursuit Race 2
DESCRIPTION:
URL:https://48north.com/event-calendar/pursuit-race-2-2/
CATEGORIES:Sailboat Races (SARC)
ORGANIZER;CN="Milltown Sailing Association":MAILTO:info@milltownsailing.org
END:VEVENT
BEGIN:VEVENT
DTSTART;TZID=America/Los_Angeles:20251130T000000
DTEND;TZID=America/Los_Angeles:20251130T000000
DTSTAMP:20260422T193802
CREATED:20250101T040346Z
LAST-MODIFIED:20250101T040346Z
UID:10001986-1764460800-1764460800@48north.com
SUMMARY:Snowflake Fall Series\, Race 3
DESCRIPTION:
URL:https://48north.com/event-calendar/snowflake-fall-series-race-3/
CATEGORIES:Sailboat Races (SARC)
END:VEVENT
BEGIN:VEVENT
DTSTART;VALUE=DATE:20251206
DTEND;VALUE=DATE:20251207
DTSTAMP:20260422T193802
CREATED:20250101T040346Z
LAST-MODIFIED:20250101T040346Z
UID:10001987-1764979200-1765065599@48north.com
SUMMARY:Winter Vashon SSS #1 (48N Top 25)
DESCRIPTION:
URL:https://48north.com/event-calendar/winter-vashon-sss-1-48n-top-25-6/
CATEGORIES:Sailboat Races (SARC)
END:VEVENT
BEGIN:VEVENT
DTSTART;VALUE=DATE:20251213
DTEND;VALUE=DATE:20251214
DTSTAMP:20260422T193802
CREATED:20250101T040347Z
LAST-MODIFIED:20250101T040347Z
UID:10001988-1765584000-1765670399@48north.com
SUMMARY:Snowbird #2
DESCRIPTION:
URL:https://48north.com/event-calendar/snowbird-2-6/
CATEGORIES:Sailboat Races (SARC)
ORGANIZER;CN="Shilshole Bay Yacht Club":MAILTO:vancouverinfo@canadianboatshows.com
END:VEVENT
BEGIN:VEVENT
DTSTART;VALUE=DATE:20251213
DTEND;VALUE=DATE:20251214
DTSTAMP:20260422T193802
CREATED:20250101T040347Z
LAST-MODIFIED:20250101T040347Z
UID:10001989-1765584000-1765670399@48north.com
SUMMARY:Hope Island Race
DESCRIPTION:
URL:https://48north.com/event-calendar/hope-island-race-6/
CATEGORIES:Sailboat Races (SARC)
ORGANIZER;CN="South Sound Sailing Society":MAILTO:info@ssssclub.com
END:VEVENT
BEGIN:VEVENT
DTSTART;TZID=America/Los_Angeles:20251214T000000
DTEND;TZID=America/Los_Angeles:20251214T000000
DTSTAMP:20260422T193802
CREATED:20250101T040347Z
LAST-MODIFIED:20250101T040347Z
UID:10001990-1765670400-1765670400@48north.com
SUMMARY:Snowflake Fall Series\, Race 4
DESCRIPTION:
URL:https://48north.com/event-calendar/snowflake-fall-series-race-4/
CATEGORIES:Sailboat Races (SARC)
END:VEVENT
BEGIN:VEVENT
DTSTART;VALUE=DATE:20251226
DTEND;VALUE=DATE:20251227
DTSTAMP:20260422T193802
CREATED:20250101T040446Z
LAST-MODIFIED:20250101T040446Z
UID:10001991-1766707200-1766793599@48north.com
SUMMARY:Boxing Day Race
DESCRIPTION:
URL:https://48north.com/event-calendar/boxing-day-race-3/
CATEGORIES:Sailboat Races (SARC)
ORGANIZER;CN="Sloop Tavern Yacht Club":MAILTO:commodore@styc.org
END:VEVENT
BEGIN:VEVENT
DTSTART;VALUE=DATE:20251226
DTEND;VALUE=DATE:20251227
DTSTAMP:20260422T193802
CREATED:20250101T040446Z
LAST-MODIFIED:20250101T040446Z
UID:10001992-1766707200-1766793599@48north.com
SUMMARY:Rum Race
DESCRIPTION:
URL:https://48north.com/event-calendar/rum-race-6/
CATEGORIES:Sailboat Races (SARC)
END:VEVENT
BEGIN:VEVENT
DTSTART;VALUE=DATE:20260103
DTEND;VALUE=DATE:20260104
DTSTAMP:20260422T193802
CREATED:20250101T040446Z
LAST-MODIFIED:20251231T224826Z
UID:10001993-1767398400-1767484799@48north.com
SUMMARY:Duwamish Head SSS #2 (48N Top 25)
DESCRIPTION:
URL:https://48north.com/event-calendar/duwamish-head-sss-2-48n-top-25-6/
CATEGORIES:Sailboat Races (SARC)
END:VEVENT
BEGIN:VEVENT
DTSTART;VALUE=DATE:20260104
DTEND;VALUE=DATE:20260105
DTSTAMP:20260422T193802
CREATED:20250101T040447Z
LAST-MODIFIED:20251231T224826Z
UID:10001994-1767484800-1767571199@48north.com
SUMMARY:Johnstone Reef
DESCRIPTION:
URL:https://48north.com/event-calendar/johnstone-reef-7/
CATEGORIES:Sailboat Races (SARC)
ORGANIZER;CN="Royal Victoria Yacht Club":MAILTO:info@rvyc.ca
END:VEVENT
BEGIN:VEVENT
DTSTART;VALUE=DATE:20260110
DTEND;VALUE=DATE:20260111
DTSTAMP:20260422T193802
CREATED:20250101T040447Z
LAST-MODIFIED:20251231T224827Z
UID:10001995-1768003200-1768089599@48north.com
SUMMARY:Snowbird #3
DESCRIPTION:
URL:https://48north.com/event-calendar/snowbird-3-6/
CATEGORIES:Sailboat Races (SARC)
ORGANIZER;CN="Sloop Tavern Yacht Club":MAILTO:commodore@styc.org
END:VEVENT
BEGIN:VEVENT
DTSTART;VALUE=DATE:20260110
DTEND;VALUE=DATE:20260111
DTSTAMP:20260422T193802
CREATED:20251231T224826Z
LAST-MODIFIED:20251231T224826Z
UID:10002003-1768003200-1768089599@48north.com
SUMMARY:Winter Series 1
DESCRIPTION:
URL:https://48north.com/event-calendar/winter-series-1-3/
CATEGORIES:Sailboat Races (SARC)
ORGANIZER;CN="Milltown Sailing Association":MAILTO:info@milltownsailing.org
END:VEVENT
BEGIN:VEVENT
DTSTART;TZID=America/Los_Angeles:20260111T000000
DTEND;TZID=America/Los_Angeles:20260111T000000
DTSTAMP:20260422T193802
CREATED:20250101T040546Z
LAST-MODIFIED:20250101T040546Z
UID:10001997-1768089600-1768089600@48north.com
SUMMARY:Snowflake Winter Series\, Race 1
DESCRIPTION:
URL:https://48north.com/event-calendar/snowflake-winter-series-race-1-2/
CATEGORIES:Sailboat Races (SARC)
END:VEVENT
BEGIN:VEVENT
DTSTART;VALUE=DATE:20260111
DTEND;VALUE=DATE:20260112
DTSTAMP:20260422T193802
CREATED:20251231T224827Z
LAST-MODIFIED:20251231T224827Z
UID:10002004-1768089600-1768175999@48north.com
SUMMARY:Seattle Frostbite Series #4
DESCRIPTION:
URL:https://48north.com/event-calendar/seattle-frostbite-series-4-6/
CATEGORIES:Sailboat Races (SARC)
END:VEVENT
BEGIN:VEVENT
DTSTART;VALUE=DATE:20260111
DTEND;VALUE=DATE:20260112
DTSTAMP:20260422T193802
CREATED:20251231T224829Z
LAST-MODIFIED:20251231T224829Z
UID:10002005-1768089600-1768175999@48north.com
SUMMARY:Goosebumps Race Series #1
DESCRIPTION:
URL:https://48north.com/event-calendar/goosebumps-race-series-1-7/
CATEGORIES:Sailboat Races (SARC)
ORGANIZER;CN="Seattle Singles Yacht Club":MAILTO:info@seattlesinglesyc.com
END:VEVENT
BEGIN:VEVENT
DTSTART;VALUE=DATE:20260111
DTEND;VALUE=DATE:20260112
DTSTAMP:20260422T193802
CREATED:20251231T224830Z
LAST-MODIFIED:20251231T224830Z
UID:10002006-1768089600-1768175999@48north.com
SUMMARY:Snowflake Winter Series\, Race 1
DESCRIPTION:
URL:https://48north.com/event-calendar/snowflake-winter-series-race-1-3/
CATEGORIES:Sailboat Races (SARC)
END:VEVENT
BEGIN:VEVENT
DTSTART;VALUE=DATE:20260117
DTEND;VALUE=DATE:20260118
DTSTAMP:20260422T193802
CREATED:20251231T224830Z
LAST-MODIFIED:20251231T224830Z
UID:10002007-1768608000-1768694399@48north.com
SUMMARY:Eld Inlet Race
DESCRIPTION:
URL:https://48north.com/event-calendar/eld-inlet-race-6/
CATEGORIES:Sailboat Races (SARC)
ORGANIZER;CN="South Sound Sailing Society":MAILTO:info@ssssclub.com
END:VEVENT
BEGIN:VEVENT
DTSTART;VALUE=DATE:20260118
DTEND;VALUE=DATE:20260119
DTSTAMP:20260422T193802
CREATED:20251231T224831Z
LAST-MODIFIED:20251231T224831Z
UID:10002008-1768694400-1768780799@48north.com
SUMMARY:Goosebumps Race Series #2
DESCRIPTION:
URL:https://48north.com/event-calendar/goosebumps-race-series-2-6/
CATEGORIES:Sailboat Races (SARC)
ORGANIZER;CN="Seattle Singles Yacht Club":MAILTO:info@seattlesinglesyc.com
END:VEVENT
BEGIN:VEVENT
DTSTART;VALUE=DATE:20260124
DTEND;VALUE=DATE:20260125
DTSTAMP:20260422T193802
CREATED:20251231T224831Z
LAST-MODIFIED:20251231T224831Z
UID:10002009-1769212800-1769299199@48north.com
SUMMARY:Harbor Series #1
DESCRIPTION:
URL:https://48north.com/event-calendar/harbor-series-1-6/
CATEGORIES:Sailboat Races (SARC)
ORGANIZER;CN="Corinthian Yacht Club of Tacoma":MAILTO:commodore@cyct.com
END:VEVENT
BEGIN:VEVENT
DTSTART;VALUE=DATE:20260124
DTEND;VALUE=DATE:20260125
DTSTAMP:20260422T193802
CREATED:20251231T224931Z
LAST-MODIFIED:20251231T224931Z
UID:10002010-1769212800-1769299199@48north.com
SUMMARY:Henderson Inlet Race
DESCRIPTION:
URL:https://48north.com/event-calendar/henderson-inlet-race-7/
CATEGORIES:Sailboat Races (SARC)
ORGANIZER;CN="South Sound Sailing Society":MAILTO:info@ssssclub.com
END:VEVENT
BEGIN:VEVENT
DTSTART;VALUE=DATE:20260124
DTEND;VALUE=DATE:20260126
DTSTAMP:20260422T193802
CREATED:20250101T040547Z
LAST-MODIFIED:20251231T224931Z
UID:10001999-1769212800-1769385599@48north.com
SUMMARY:Frigid Digit
DESCRIPTION:
URL:https://48north.com/event-calendar/frigid-digit-2/
CATEGORIES:Sailboat Races (SARC)
ORGANIZER;CN="Corinthian Yacht Club of Seattle":MAILTO:office@cycseattle.org
END:VEVENT
BEGIN:VEVENT
DTSTART;VALUE=DATE:20260125
DTEND;VALUE=DATE:20260126
DTSTAMP:20260422T193802
CREATED:20251231T224932Z
LAST-MODIFIED:20251231T224932Z
UID:10002011-1769299200-1769385599@48north.com
SUMMARY:Goosebumps Race Series #3
DESCRIPTION:
URL:https://48north.com/event-calendar/goosebumps-race-series-3-6/
CATEGORIES:Sailboat Races (SARC)
ORGANIZER;CN="Seattle Singles Yacht Club":MAILTO:info@seattlesinglesyc.com
END:VEVENT
BEGIN:VEVENT
DTSTART;VALUE=DATE:20260125
DTEND;VALUE=DATE:20260126
DTSTAMP:20260422T193802
CREATED:20251231T224932Z
LAST-MODIFIED:20251231T224932Z
UID:10002012-1769299200-1769385599@48north.com
SUMMARY:Snowflake Winter Series\, Race 2
DESCRIPTION:
URL:https://48north.com/event-calendar/snowflake-winter-series-race-2-2/
CATEGORIES:Sailboat Races (SARC)
END:VEVENT
END:VCALENDAR