BEGIN:VCALENDAR
VERSION:2.0
PRODID:-//48° North - ECPv6.15.13.1//NONSGML v1.0//EN
CALSCALE:GREGORIAN
METHOD:PUBLISH
X-WR-CALNAME:48° North
X-ORIGINAL-URL:https://48north.com
X-WR-CALDESC:Events for 48° North
REFRESH-INTERVAL;VALUE=DURATION:PT1H
X-Robots-Tag:noindex
X-PUBLISHED-TTL:PT1H
BEGIN:VTIMEZONE
TZID:America/Los_Angeles
BEGIN:DAYLIGHT
TZOFFSETFROM:-0800
TZOFFSETTO:-0700
TZNAME:PDT
DTSTART:20250309T100000
END:DAYLIGHT
BEGIN:STANDARD
TZOFFSETFROM:-0700
TZOFFSETTO:-0800
TZNAME:PST
DTSTART:20251102T090000
END:STANDARD
BEGIN:DAYLIGHT
TZOFFSETFROM:-0800
TZOFFSETTO:-0700
TZNAME:PDT
DTSTART:20260308T100000
END:DAYLIGHT
BEGIN:STANDARD
TZOFFSETFROM:-0700
TZOFFSETTO:-0800
TZNAME:PST
DTSTART:20261101T090000
END:STANDARD
BEGIN:DAYLIGHT
TZOFFSETFROM:-0800
TZOFFSETTO:-0700
TZNAME:PDT
DTSTART:20270314T100000
END:DAYLIGHT
BEGIN:STANDARD
TZOFFSETFROM:-0700
TZOFFSETTO:-0800
TZNAME:PST
DTSTART:20271107T090000
END:STANDARD
END:VTIMEZONE
BEGIN:VEVENT
DTSTART;VALUE=DATE:20260215
DTEND;VALUE=DATE:20260216
DTSTAMP:20260424T171352
CREATED:20251231T225330Z
LAST-MODIFIED:20251231T225330Z
UID:10002029-1771113600-1771199999@48north.com
SUMMARY:Goosebumps Race Series #6
DESCRIPTION:
URL:https://48north.com/event-calendar/goosebumps-race-series-6-6/
CATEGORIES:Sailboat Races (SARC)
ORGANIZER;CN="Seattle Singles Yacht Club":MAILTO:info@seattlesinglesyc.com
END:VEVENT
BEGIN:VEVENT
DTSTART;VALUE=DATE:20260215
DTEND;VALUE=DATE:20260216
DTSTAMP:20260424T171352
CREATED:20251231T225232Z
LAST-MODIFIED:20251231T225232Z
UID:10002028-1771113600-1771199999@48north.com
SUMMARY:Frostbite Series 1
DESCRIPTION:
URL:https://48north.com/event-calendar/frostbite-series-1-6/
CATEGORIES:Sailboat Races (SARC)
ORGANIZER;CN="Corinthian Yacht Club of Edmonds":MAILTO:cycofedmonds@gmail.com
END:VEVENT
BEGIN:VEVENT
DTSTART;VALUE=DATE:20260214
DTEND;VALUE=DATE:20260215
DTSTAMP:20260424T171352
CREATED:20251231T225232Z
LAST-MODIFIED:20251231T225232Z
UID:10002027-1771027200-1771113599@48north.com
SUMMARY:Winter Around the Buoy Race #2
DESCRIPTION:
URL:https://48north.com/event-calendar/winter-around-the-buoy-race-2-6/
CATEGORIES:Sailboat Races (SARC)
ORGANIZER;CN="Royal Victoria Yacht Club":MAILTO:info@rvyc.ca
END:VEVENT
BEGIN:VEVENT
DTSTART;VALUE=DATE:20260214
DTEND;VALUE=DATE:20260215
DTSTAMP:20260424T171352
CREATED:20251231T225231Z
LAST-MODIFIED:20251231T225231Z
UID:10002026-1771027200-1771113599@48north.com
SUMMARY:Toliva Shoal SSS #3 (48N Top 25)
DESCRIPTION:
URL:https://48north.com/event-calendar/toliva-shoal-sss-3-48n-top-25-7/
CATEGORIES:Sailboat Races (SARC)
ORGANIZER;CN="Olympia Yacht Club":MAILTO:welpman@hotmail.com
END:VEVENT
BEGIN:VEVENT
DTSTART;VALUE=DATE:20260208
DTEND;VALUE=DATE:20260209
DTSTAMP:20260424T171352
CREATED:20251231T225231Z
LAST-MODIFIED:20251231T225231Z
UID:10002025-1770508800-1770595199@48north.com
SUMMARY:Snowflake Winter Series\, Race 3
DESCRIPTION:
URL:https://48north.com/event-calendar/snowflake-winter-series-race-3-2/
CATEGORIES:Sailboat Races (SARC)
END:VEVENT
BEGIN:VEVENT
DTSTART;VALUE=DATE:20260208
DTEND;VALUE=DATE:20260209
DTSTAMP:20260424T171352
CREATED:20251231T225230Z
LAST-MODIFIED:20251231T225230Z
UID:10002024-1770508800-1770595199@48north.com
SUMMARY:Goosebumps Race Series #5
DESCRIPTION:
URL:https://48north.com/event-calendar/goosebumps-race-series-5-6/
CATEGORIES:Sailboat Races (SARC)
ORGANIZER;CN="Seattle Singles Yacht Club":MAILTO:info@seattlesinglesyc.com
END:VEVENT
BEGIN:VEVENT
DTSTART;VALUE=DATE:20260208
DTEND;VALUE=DATE:20260209
DTSTAMP:20260424T171352
CREATED:20251231T225133Z
LAST-MODIFIED:20251231T225133Z
UID:10002023-1770508800-1770595199@48north.com
SUMMARY:Seattle Frostbite Series #5
DESCRIPTION:
URL:https://48north.com/event-calendar/seattle-frostbite-series-5-6/
CATEGORIES:Sailboat Races (SARC)
END:VEVENT
BEGIN:VEVENT
DTSTART;VALUE=DATE:20260208
DTEND;VALUE=DATE:20260209
DTSTAMP:20260424T171352
CREATED:20251231T225132Z
LAST-MODIFIED:20251231T225132Z
UID:10002022-1770508800-1770595199@48north.com
SUMMARY:Winter Long Distance #1
DESCRIPTION:
URL:https://48north.com/event-calendar/winter-long-distance-1-5/
CATEGORIES:Sailboat Races (SARC)
ORGANIZER;CN="Royal Victoria Yacht Club":MAILTO:info@rvyc.ca
END:VEVENT
BEGIN:VEVENT
DTSTART;VALUE=DATE:20260207
DTEND;VALUE=DATE:20260208
DTSTAMP:20260424T171352
CREATED:20251231T225132Z
LAST-MODIFIED:20251231T225132Z
UID:10002021-1770422400-1770508799@48north.com
SUMMARY:Shaw Island Winter Classic
DESCRIPTION:
URL:https://48north.com/event-calendar/shaw-island-winter-classic-7/
CATEGORIES:Sailboat Races (SARC)
END:VEVENT
BEGIN:VEVENT
DTSTART;VALUE=DATE:20260207
DTEND;VALUE=DATE:20260208
DTSTAMP:20260424T171352
CREATED:20251231T225131Z
LAST-MODIFIED:20251231T225131Z
UID:10002020-1770422400-1770508799@48north.com
SUMMARY:Winter Series 3
DESCRIPTION:
URL:https://48north.com/event-calendar/winter-series-3-3/
CATEGORIES:Sailboat Races (SARC)
ORGANIZER;CN="Milltown Sailing Association":MAILTO:info@milltownsailing.org
END:VEVENT
BEGIN:VEVENT
DTSTART;VALUE=DATE:20260207
DTEND;VALUE=DATE:20260208
DTSTAMP:20260424T171352
CREATED:20251231T225130Z
LAST-MODIFIED:20251231T225130Z
UID:10002019-1770422400-1770508799@48north.com
SUMMARY:Harbor Series #3
DESCRIPTION:
URL:https://48north.com/event-calendar/harbor-series-3-6/
CATEGORIES:Sailboat Races (SARC)
ORGANIZER;CN="Corinthian Yacht Club of Tacoma":MAILTO:commodore@cyct.com
END:VEVENT
BEGIN:VEVENT
DTSTART;VALUE=DATE:20260201
DTEND;VALUE=DATE:20260202
DTSTAMP:20260424T171352
CREATED:20251231T225034Z
LAST-MODIFIED:20251231T225034Z
UID:10002018-1769904000-1769990399@48north.com
SUMMARY:Goosebumps Race Series #4
DESCRIPTION:
URL:https://48north.com/event-calendar/goosebumps-race-series-4-6/
CATEGORIES:Sailboat Races (SARC)
ORGANIZER;CN="Seattle Singles Yacht Club":MAILTO:info@seattlesinglesyc.com
END:VEVENT
BEGIN:VEVENT
DTSTART;VALUE=DATE:20260131
DTEND;VALUE=DATE:20260201
DTSTAMP:20260424T171352
CREATED:20251231T225034Z
LAST-MODIFIED:20251231T225034Z
UID:10002017-1769817600-1769903999@48north.com
SUMMARY:Freshwater Race\, Kirkland
DESCRIPTION:
URL:https://48north.com/event-calendar/freshwater-race-kirkland-7/
CATEGORIES:Sailboat Races (SARC)
ORGANIZER;CN="Sloop Tavern Yacht Club":MAILTO:commodore@styc.org
END:VEVENT
BEGIN:VEVENT
DTSTART;VALUE=DATE:20260131
DTEND;VALUE=DATE:20260201
DTSTAMP:20260424T171352
CREATED:20251231T225033Z
LAST-MODIFIED:20251231T225033Z
UID:10002016-1769817600-1769903999@48north.com
SUMMARY:Winter Around the Buoy Race #1
DESCRIPTION:
URL:https://48north.com/event-calendar/winter-around-the-buoy-race-1-5/
CATEGORIES:Sailboat Races (SARC)
ORGANIZER;CN="Royal Victoria Yacht Club":MAILTO:info@rvyc.ca
END:VEVENT
BEGIN:VEVENT
DTSTART;VALUE=DATE:20260131
DTEND;VALUE=DATE:20260201
DTSTAMP:20260424T171352
CREATED:20251231T225032Z
LAST-MODIFIED:20251231T225032Z
UID:10002015-1769817600-1769903999@48north.com
SUMMARY:Winter Series 2
DESCRIPTION:
URL:https://48north.com/event-calendar/winter-series-2-3/
CATEGORIES:Sailboat Races (SARC)
ORGANIZER;CN="Milltown Sailing Association":MAILTO:info@milltownsailing.org
END:VEVENT
BEGIN:VEVENT
DTSTART;VALUE=DATE:20260131
DTEND;VALUE=DATE:20260201
DTSTAMP:20260424T171352
CREATED:20251231T225031Z
LAST-MODIFIED:20251231T225031Z
UID:10002014-1769817600-1769903999@48north.com
SUMMARY:Harbor Series #2
DESCRIPTION:
URL:https://48north.com/event-calendar/harbor-series-2-6/
CATEGORIES:Sailboat Races (SARC)
ORGANIZER;CN="Corinthian Yacht Club of Tacoma":MAILTO:commodore@cyct.com
END:VEVENT
BEGIN:VEVENT
DTSTART;VALUE=DATE:20260130
DTEND;VALUE=DATE:20260208
DTSTAMP:20260424T171352
CREATED:20251231T224933Z
LAST-MODIFIED:20251231T224933Z
UID:10002013-1769731200-1770508799@48north.com
SUMMARY:Seattle Boat Show
DESCRIPTION:
URL:https://48north.com/event-calendar/seattle-boat-show-6/
CATEGORIES:Sailboat Races (SARC)
END:VEVENT
BEGIN:VEVENT
DTSTART;VALUE=DATE:20260125
DTEND;VALUE=DATE:20260126
DTSTAMP:20260424T171352
CREATED:20251231T224932Z
LAST-MODIFIED:20251231T224932Z
UID:10002011-1769299200-1769385599@48north.com
SUMMARY:Goosebumps Race Series #3
DESCRIPTION:
URL:https://48north.com/event-calendar/goosebumps-race-series-3-6/
CATEGORIES:Sailboat Races (SARC)
ORGANIZER;CN="Seattle Singles Yacht Club":MAILTO:info@seattlesinglesyc.com
END:VEVENT
BEGIN:VEVENT
DTSTART;VALUE=DATE:20260125
DTEND;VALUE=DATE:20260126
DTSTAMP:20260424T171352
CREATED:20251231T224932Z
LAST-MODIFIED:20251231T224932Z
UID:10002012-1769299200-1769385599@48north.com
SUMMARY:Snowflake Winter Series\, Race 2
DESCRIPTION:
URL:https://48north.com/event-calendar/snowflake-winter-series-race-2-2/
CATEGORIES:Sailboat Races (SARC)
END:VEVENT
BEGIN:VEVENT
DTSTART;VALUE=DATE:20260124
DTEND;VALUE=DATE:20260126
DTSTAMP:20260424T171352
CREATED:20250101T040547Z
LAST-MODIFIED:20251231T224931Z
UID:10001999-1769212800-1769385599@48north.com
SUMMARY:Frigid Digit
DESCRIPTION:
URL:https://48north.com/event-calendar/frigid-digit-2/
CATEGORIES:Sailboat Races (SARC)
ORGANIZER;CN="Corinthian Yacht Club of Seattle":MAILTO:office@cycseattle.org
END:VEVENT
BEGIN:VEVENT
DTSTART;VALUE=DATE:20260124
DTEND;VALUE=DATE:20260125
DTSTAMP:20260424T171352
CREATED:20251231T224931Z
LAST-MODIFIED:20251231T224931Z
UID:10002010-1769212800-1769299199@48north.com
SUMMARY:Henderson Inlet Race
DESCRIPTION:
URL:https://48north.com/event-calendar/henderson-inlet-race-7/
CATEGORIES:Sailboat Races (SARC)
ORGANIZER;CN="South Sound Sailing Society":MAILTO:info@ssssclub.com
END:VEVENT
BEGIN:VEVENT
DTSTART;VALUE=DATE:20260124
DTEND;VALUE=DATE:20260125
DTSTAMP:20260424T171352
CREATED:20251231T224831Z
LAST-MODIFIED:20251231T224831Z
UID:10002009-1769212800-1769299199@48north.com
SUMMARY:Harbor Series #1
DESCRIPTION:
URL:https://48north.com/event-calendar/harbor-series-1-6/
CATEGORIES:Sailboat Races (SARC)
ORGANIZER;CN="Corinthian Yacht Club of Tacoma":MAILTO:commodore@cyct.com
END:VEVENT
BEGIN:VEVENT
DTSTART;VALUE=DATE:20260118
DTEND;VALUE=DATE:20260119
DTSTAMP:20260424T171352
CREATED:20251231T224831Z
LAST-MODIFIED:20251231T224831Z
UID:10002008-1768694400-1768780799@48north.com
SUMMARY:Goosebumps Race Series #2
DESCRIPTION:
URL:https://48north.com/event-calendar/goosebumps-race-series-2-6/
CATEGORIES:Sailboat Races (SARC)
ORGANIZER;CN="Seattle Singles Yacht Club":MAILTO:info@seattlesinglesyc.com
END:VEVENT
BEGIN:VEVENT
DTSTART;VALUE=DATE:20260117
DTEND;VALUE=DATE:20260118
DTSTAMP:20260424T171352
CREATED:20251231T224830Z
LAST-MODIFIED:20251231T224830Z
UID:10002007-1768608000-1768694399@48north.com
SUMMARY:Eld Inlet Race
DESCRIPTION:
URL:https://48north.com/event-calendar/eld-inlet-race-6/
CATEGORIES:Sailboat Races (SARC)
ORGANIZER;CN="South Sound Sailing Society":MAILTO:info@ssssclub.com
END:VEVENT
BEGIN:VEVENT
DTSTART;VALUE=DATE:20260111
DTEND;VALUE=DATE:20260112
DTSTAMP:20260424T171352
CREATED:20251231T224830Z
LAST-MODIFIED:20251231T224830Z
UID:10002006-1768089600-1768175999@48north.com
SUMMARY:Snowflake Winter Series\, Race 1
DESCRIPTION:
URL:https://48north.com/event-calendar/snowflake-winter-series-race-1-3/
CATEGORIES:Sailboat Races (SARC)
END:VEVENT
BEGIN:VEVENT
DTSTART;VALUE=DATE:20260111
DTEND;VALUE=DATE:20260112
DTSTAMP:20260424T171352
CREATED:20251231T224829Z
LAST-MODIFIED:20251231T224829Z
UID:10002005-1768089600-1768175999@48north.com
SUMMARY:Goosebumps Race Series #1
DESCRIPTION:
URL:https://48north.com/event-calendar/goosebumps-race-series-1-7/
CATEGORIES:Sailboat Races (SARC)
ORGANIZER;CN="Seattle Singles Yacht Club":MAILTO:info@seattlesinglesyc.com
END:VEVENT
BEGIN:VEVENT
DTSTART;VALUE=DATE:20260111
DTEND;VALUE=DATE:20260112
DTSTAMP:20260424T171352
CREATED:20251231T224827Z
LAST-MODIFIED:20251231T224827Z
UID:10002004-1768089600-1768175999@48north.com
SUMMARY:Seattle Frostbite Series #4
DESCRIPTION:
URL:https://48north.com/event-calendar/seattle-frostbite-series-4-6/
CATEGORIES:Sailboat Races (SARC)
END:VEVENT
BEGIN:VEVENT
DTSTART;TZID=America/Los_Angeles:20260111T000000
DTEND;TZID=America/Los_Angeles:20260111T000000
DTSTAMP:20260424T171352
CREATED:20250101T040546Z
LAST-MODIFIED:20250101T040546Z
UID:10001996-1768089600-1768089600@48north.com
SUMMARY:Goosebumps Race Series #1
DESCRIPTION:
URL:https://48north.com/event-calendar/goosebumps-race-series-1-6/
ORGANIZER;CN="Seattle Singles Yacht Club":MAILTO:info@seattlesinglesyc.com
END:VEVENT
BEGIN:VEVENT
DTSTART;TZID=America/Los_Angeles:20260111T000000
DTEND;TZID=America/Los_Angeles:20260111T000000
DTSTAMP:20260424T171352
CREATED:20250101T040546Z
LAST-MODIFIED:20250101T040546Z
UID:10001997-1768089600-1768089600@48north.com
SUMMARY:Snowflake Winter Series\, Race 1
DESCRIPTION:
URL:https://48north.com/event-calendar/snowflake-winter-series-race-1-2/
CATEGORIES:Sailboat Races (SARC)
END:VEVENT
BEGIN:VEVENT
DTSTART;VALUE=DATE:20260110
DTEND;VALUE=DATE:20260111
DTSTAMP:20260424T171352
CREATED:20251231T224826Z
LAST-MODIFIED:20251231T224826Z
UID:10002003-1768003200-1768089599@48north.com
SUMMARY:Winter Series 1
DESCRIPTION:
URL:https://48north.com/event-calendar/winter-series-1-3/
CATEGORIES:Sailboat Races (SARC)
ORGANIZER;CN="Milltown Sailing Association":MAILTO:info@milltownsailing.org
END:VEVENT
END:VCALENDAR