BEGIN:VCALENDAR
VERSION:2.0
PRODID:-//48° North - ECPv6.15.13.1//NONSGML v1.0//EN
CALSCALE:GREGORIAN
METHOD:PUBLISH
X-WR-CALNAME:48° North
X-ORIGINAL-URL:https://48north.com
X-WR-CALDESC:Events for 48° North
REFRESH-INTERVAL;VALUE=DURATION:PT1H
X-Robots-Tag:noindex
X-PUBLISHED-TTL:PT1H
BEGIN:VTIMEZONE
TZID:America/Los_Angeles
BEGIN:DAYLIGHT
TZOFFSETFROM:-0800
TZOFFSETTO:-0700
TZNAME:PDT
DTSTART:20210314T100000
END:DAYLIGHT
BEGIN:STANDARD
TZOFFSETFROM:-0700
TZOFFSETTO:-0800
TZNAME:PST
DTSTART:20211107T090000
END:STANDARD
BEGIN:DAYLIGHT
TZOFFSETFROM:-0800
TZOFFSETTO:-0700
TZNAME:PDT
DTSTART:20220313T100000
END:DAYLIGHT
BEGIN:STANDARD
TZOFFSETFROM:-0700
TZOFFSETTO:-0800
TZNAME:PST
DTSTART:20221106T090000
END:STANDARD
BEGIN:DAYLIGHT
TZOFFSETFROM:-0800
TZOFFSETTO:-0700
TZNAME:PDT
DTSTART:20230312T100000
END:DAYLIGHT
BEGIN:STANDARD
TZOFFSETFROM:-0700
TZOFFSETTO:-0800
TZNAME:PST
DTSTART:20231105T090000
END:STANDARD
BEGIN:DAYLIGHT
TZOFFSETFROM:-0800
TZOFFSETTO:-0700
TZNAME:PDT
DTSTART:20240310T100000
END:DAYLIGHT
BEGIN:STANDARD
TZOFFSETFROM:-0700
TZOFFSETTO:-0800
TZNAME:PST
DTSTART:20241103T090000
END:STANDARD
BEGIN:DAYLIGHT
TZOFFSETFROM:-0800
TZOFFSETTO:-0700
TZNAME:PDT
DTSTART:20250309T100000
END:DAYLIGHT
BEGIN:STANDARD
TZOFFSETFROM:-0700
TZOFFSETTO:-0800
TZNAME:PST
DTSTART:20251102T090000
END:STANDARD
BEGIN:DAYLIGHT
TZOFFSETFROM:-0800
TZOFFSETTO:-0700
TZNAME:PDT
DTSTART:20260308T100000
END:DAYLIGHT
BEGIN:STANDARD
TZOFFSETFROM:-0700
TZOFFSETTO:-0800
TZNAME:PST
DTSTART:20261101T090000
END:STANDARD
END:VTIMEZONE
BEGIN:VEVENT
DTSTART;VALUE=DATE:20250301
DTEND;VALUE=DATE:20250302
DTSTAMP:20260425T064729
CREATED:20250101T014545Z
LAST-MODIFIED:20250101T014545Z
UID:10001692-1740787200-1740873599@48north.com
SUMMARY:Center Sound Series Three Tree Point (48N Top 25)
DESCRIPTION:
URL:https://48north.com/event-calendar/center-sound-series-three-tree-point-48n-top-25/
CATEGORIES:Sailboat Races (SARC)
ORGANIZER;CN="Corinthian Yacht Club of Seattle":MAILTO:office@cycseattle.org
END:VEVENT
BEGIN:VEVENT
DTSTART;VALUE=DATE:20250125
DTEND;VALUE=DATE:20250127
DTSTAMP:20260425T064729
CREATED:20250101T013344Z
LAST-MODIFIED:20250101T013344Z
UID:10001660-1737763200-1737935999@48north.com
SUMMARY:Frigid Digit
DESCRIPTION:
URL:https://48north.com/event-calendar/frigid-digit/
CATEGORIES:Sailboat Races (SARC)
ORGANIZER;CN="Corinthian Yacht Club of Seattle":MAILTO:office@cycseattle.org
END:VEVENT
BEGIN:VEVENT
DTSTART;VALUE=DATE:20241123
DTEND;VALUE=DATE:20241125
DTSTAMP:20260425T064729
CREATED:20240103T204453Z
LAST-MODIFIED:20240103T204453Z
UID:10001628-1732320000-1732492799@48north.com
SUMMARY:Turkey Bowl
DESCRIPTION:
URL:https://48north.com/event-calendar/turkey-bowl-5/
LOCATION:Corinthian Yacht Club of Seattle\, 7755 Seaview Avenue Northwest Pier V\, Seattle\, WA\, 98117\, United States
CATEGORIES:Sailboat Races (SARC)
ORGANIZER;CN="Corinthian Yacht Club of Seattle":MAILTO:office@cycseattle.org
END:VEVENT
BEGIN:VEVENT
DTSTART;VALUE=DATE:20241012
DTEND;VALUE=DATE:20241014
DTSTAMP:20260425T064729
CREATED:20240103T201258Z
LAST-MODIFIED:20240103T201258Z
UID:10001593-1728691200-1728863999@48north.com
SUMMARY:Puget Sound Sailing Championship (Big Boats) (48N Top 25)
DESCRIPTION:
URL:https://48north.com/event-calendar/puget-sound-sailing-championship-big-boats-48n-top-25-5/
LOCATION:Corinthian Yacht Club of Seattle\, 7755 Seaview Avenue Northwest Pier V\, Seattle\, WA\, 98117\, United States
CATEGORIES:Sailboat Races (SARC)
ORGANIZER;CN="Corinthian Yacht Club of Seattle":MAILTO:office@cycseattle.org
END:VEVENT
BEGIN:VEVENT
DTSTART;VALUE=DATE:20240928
DTEND;VALUE=DATE:20241006
DTSTAMP:20260425T064729
CREATED:20240103T200856Z
LAST-MODIFIED:20240103T200856Z
UID:10001580-1727481600-1728172799@48north.com
SUMMARY:J/24 World Championship
DESCRIPTION:
URL:https://48north.com/event-calendar/j-24-world-championship/
LOCATION:Corinthian Yacht Club of Seattle\, 7755 Seaview Avenue Northwest Pier V\, Seattle\, WA\, 98117\, United States
CATEGORIES:Sailboat Races (SARC)
ORGANIZER;CN="Corinthian Yacht Club of Seattle":MAILTO:office@cycseattle.org
END:VEVENT
BEGIN:VEVENT
DTSTART;VALUE=DATE:20240914
DTEND;VALUE=DATE:20240916
DTSTAMP:20260425T064729
CREATED:20240103T195753Z
LAST-MODIFIED:20240103T195753Z
UID:10001553-1726272000-1726444799@48north.com
SUMMARY:Midnight Run
DESCRIPTION:
URL:https://48north.com/event-calendar/midnight-run/
LOCATION:Corinthian Yacht Club of Seattle\, 7755 Seaview Avenue Northwest Pier V\, Seattle\, WA\, 98117\, United States
CATEGORIES:Sailboat Races (SARC)
ORGANIZER;CN="Corinthian Yacht Club of Seattle":MAILTO:office@cycseattle.org
END:VEVENT
BEGIN:VEVENT
DTSTART;VALUE=DATE:20240914
DTEND;VALUE=DATE:20240916
DTSTAMP:20260425T064729
CREATED:20240103T195752Z
LAST-MODIFIED:20240103T195752Z
UID:10001552-1726272000-1726444799@48north.com
SUMMARY:Puget Sound Sailing Championship (Small Boats) and Singlehanded Qualifiers (48N Top 25)
DESCRIPTION:
URL:https://48north.com/event-calendar/puget-sound-sailing-championship-small-boats-and-singlehanded-qualifiers-48n-top-25/
LOCATION:Corinthian Yacht Club of Seattle\, 7755 Seaview Avenue Northwest Pier V\, Seattle\, WA\, 98117\, United States
CATEGORIES:Sailboat Races (SARC)
ORGANIZER;CN="Corinthian Yacht Club of Seattle":MAILTO:office@cycseattle.org
END:VEVENT
BEGIN:VEVENT
DTSTART;VALUE=DATE:20240810
DTEND;VALUE=DATE:20240811
DTSTAMP:20260425T064729
CREATED:20240102T040109Z
LAST-MODIFIED:20240102T040109Z
UID:10001508-1723248000-1723334399@48north.com
SUMMARY:Lake Moonlight Race
DESCRIPTION:
URL:https://48north.com/event-calendar/lake-moonlight-race-2/
LOCATION:Corinthian Yacht Club of Seattle\, 7755 Seaview Avenue Northwest Pier V\, Seattle\, WA\, 98117\, United States
CATEGORIES:Sailboat Races (SARC)
ORGANIZER;CN="Corinthian Yacht Club of Seattle":MAILTO:office@cycseattle.org
END:VEVENT
BEGIN:VEVENT
DTSTART;VALUE=DATE:20240803
DTEND;VALUE=DATE:20240805
DTSTAMP:20260425T064729
CREATED:20240102T035907Z
LAST-MODIFIED:20240102T035907Z
UID:10001503-1722643200-1722815999@48north.com
SUMMARY:Commodore & Gibson Races
DESCRIPTION:
URL:https://48north.com/event-calendar/commodore-gibson-races/
LOCATION:Corinthian Yacht Club of Seattle\, 7755 Seaview Avenue Northwest Pier V\, Seattle\, WA\, 98117\, United States
CATEGORIES:Sailboat Races (SARC)
ORGANIZER;CN="Corinthian Yacht Club of Seattle":MAILTO:office@cycseattle.org
END:VEVENT
BEGIN:VEVENT
DTSTART;VALUE=DATE:20240608
DTEND;VALUE=DATE:20240610
DTSTAMP:20260425T064729
CREATED:20240102T033813Z
LAST-MODIFIED:20240102T033813Z
UID:10001452-1717804800-1717977599@48north.com
SUMMARY:Area L Sears Qualifier (Leschi)
DESCRIPTION:
URL:https://48north.com/event-calendar/area-l-sears-qualifier-leschi/
LOCATION:Corinthian Yacht Club of Seattle\, 7755 Seaview Avenue Northwest Pier V\, Seattle\, WA\, 98117\, United States
CATEGORIES:Sailboat Races (SARC)
ORGANIZER;CN="Corinthian Yacht Club of Seattle":MAILTO:office@cycseattle.org
END:VEVENT
BEGIN:VEVENT
DTSTART;VALUE=DATE:20240420
DTEND;VALUE=DATE:20240422
DTSTAMP:20260425T064729
CREATED:20240102T031445Z
LAST-MODIFIED:20240102T031445Z
UID:10001396-1713571200-1713743999@48north.com
SUMMARY:Spring Regatta (Big Boats) (48N Top 25)
DESCRIPTION:
URL:https://48north.com/event-calendar/spring-regatta-big-boats-48n-top-25/
LOCATION:Corinthian Yacht Club of Seattle\, 7755 Seaview Avenue Northwest Pier V\, Seattle\, WA\, 98117\, United States
CATEGORIES:Sailboat Races (SARC)
ORGANIZER;CN="Corinthian Yacht Club of Seattle":MAILTO:office@cycseattle.org
END:VEVENT
BEGIN:VEVENT
DTSTART;VALUE=DATE:20240406
DTEND;VALUE=DATE:20240408
DTSTAMP:20260425T064729
CREATED:20240102T030641Z
LAST-MODIFIED:20240102T030641Z
UID:10001377-1712361600-1712534399@48north.com
SUMMARY:Spring Regatta (Small Boats)
DESCRIPTION:
URL:https://48north.com/event-calendar/spring-regatta-small-boats/
LOCATION:Corinthian Yacht Club of Seattle\, 7755 Seaview Avenue Northwest Pier V\, Seattle\, WA\, 98117\, United States
CATEGORIES:Sailboat Races (SARC)
ORGANIZER;CN="Corinthian Yacht Club of Seattle":MAILTO:office@cycseattle.org
END:VEVENT
BEGIN:VEVENT
DTSTART;VALUE=DATE:20240323
DTEND;VALUE=DATE:20240324
DTSTAMP:20260425T064729
CREATED:20240102T030258Z
LAST-MODIFIED:20240102T030258Z
UID:10001365-1711152000-1711238399@48north.com
SUMMARY:Center Sound Series Pulley Point (48N Top 25)
DESCRIPTION:
URL:https://48north.com/event-calendar/center-sound-series-pulley-point-48n-top-25/
LOCATION:Corinthian Yacht Club of Seattle\, 7755 Seaview Avenue Northwest Pier V\, Seattle\, WA\, 98117\, United States
CATEGORIES:Sailboat Races (SARC)
ORGANIZER;CN="Corinthian Yacht Club of Seattle":MAILTO:office@cycseattle.org
END:VEVENT
BEGIN:VEVENT
DTSTART;VALUE=DATE:20240309
DTEND;VALUE=DATE:20240310
DTSTAMP:20260425T064729
CREATED:20240102T030123Z
LAST-MODIFIED:20240102T030123Z
UID:10001351-1709942400-1710028799@48north.com
SUMMARY:Center Sound Series Scatchet Head (48N Top 25)
DESCRIPTION:
URL:https://48north.com/event-calendar/center-sound-series-scatchet-head-48n-top-25/
LOCATION:Corinthian Yacht Club of Seattle\, 7755 Seaview Avenue Northwest Pier V\, Seattle\, WA\, 98117\, United States
CATEGORIES:Sailboat Races (SARC)
ORGANIZER;CN="Corinthian Yacht Club of Seattle":MAILTO:office@cycseattle.org
END:VEVENT
BEGIN:VEVENT
DTSTART;VALUE=DATE:20240302
DTEND;VALUE=DATE:20240303
DTSTAMP:20260425T064729
CREATED:20240102T025922Z
LAST-MODIFIED:20240102T025922Z
UID:10001347-1709337600-1709423999@48north.com
SUMMARY:Center Sound Series Blakely Rock (48N Top 25)
DESCRIPTION:
URL:https://48north.com/event-calendar/center-sound-series-blakely-rock-48n-top-25/
LOCATION:Corinthian Yacht Club of Seattle\, 7755 Seaview Avenue Northwest Pier V\, Seattle\, WA\, 98117\, United States
CATEGORIES:Sailboat Races (SARC)
ORGANIZER;CN="Corinthian Yacht Club of Seattle":MAILTO:office@cycseattle.org
END:VEVENT
BEGIN:VEVENT
DTSTART;VALUE=DATE:20240120
DTEND;VALUE=DATE:20240122
DTSTAMP:20260425T064729
CREATED:20240102T025419Z
LAST-MODIFIED:20240102T025419Z
UID:10001311-1705708800-1705881599@48north.com
SUMMARY:Frigid Digits
DESCRIPTION:
URL:https://48north.com/event-calendar/frigid-digits/
LOCATION:Corinthian Yacht Club of Seattle\, 7755 Seaview Avenue Northwest Pier V\, Seattle\, WA\, 98117\, United States
CATEGORIES:Sailboat Races (SARC)
ORGANIZER;CN="Corinthian Yacht Club of Seattle":MAILTO:office@cycseattle.org
END:VEVENT
BEGIN:VEVENT
DTSTART;VALUE=DATE:20231118
DTEND;VALUE=DATE:20231120
DTSTAMP:20260425T064729
CREATED:20230103T203015Z
LAST-MODIFIED:20230103T203015Z
UID:10001288-1700265600-1700438399@48north.com
SUMMARY:Turkey Bowl
DESCRIPTION:
URL:https://48north.com/event-calendar/turkey-bowl-4/
LOCATION:Shilshole Bay Marina\, 7001 Seaview Ave NW\, Seattle\, WA\, 98117\, United States
CATEGORIES:Sailboat Races (SARC)
ORGANIZER;CN="Corinthian Yacht Club of Seattle":MAILTO:office@cycseattle.org
END:VEVENT
BEGIN:VEVENT
DTSTART;VALUE=DATE:20231014
DTEND;VALUE=DATE:20231016
DTSTAMP:20260425T064729
CREATED:20230103T203007Z
LAST-MODIFIED:20230103T203007Z
UID:10001269-1697241600-1697414399@48north.com
SUMMARY:Puget Sound Sailing Championship (Big Boats) (48N Top 25)
DESCRIPTION:
URL:https://48north.com/event-calendar/puget-sound-sailing-championship-big-boats-48n-top-25-4/
LOCATION:Shilshole Bay Marina\, 7001 Seaview Ave NW\, Seattle\, WA\, 98117\, United States
CATEGORIES:Sailboat Races (SARC)
ORGANIZER;CN="Corinthian Yacht Club of Seattle":MAILTO:office@cycseattle.org
END:VEVENT
BEGIN:VEVENT
DTSTART;VALUE=DATE:20230930
DTEND;VALUE=DATE:20231002
DTSTAMP:20260425T064729
CREATED:20230103T203004Z
LAST-MODIFIED:20230103T203004Z
UID:10000867-1696032000-1696204799@48north.com
SUMMARY:Puget Sound Sailing Championship (Small Boats) (48N Top 25)
DESCRIPTION:
URL:https://48north.com/event-calendar/puget-sound-sailing-championship-small-boats-48n-top-25-2/
LOCATION:Shilshole Bay Marina\, 7001 Seaview Ave NW\, Seattle\, WA\, 98117\, United States
CATEGORIES:Sailboat Races (SARC)
ORGANIZER;CN="Corinthian Yacht Club of Seattle":MAILTO:office@cycseattle.org
END:VEVENT
BEGIN:VEVENT
DTSTART;VALUE=DATE:20230916
DTEND;VALUE=DATE:20230918
DTSTAMP:20260425T064729
CREATED:20230103T202956Z
LAST-MODIFIED:20230103T202956Z
UID:10000845-1694822400-1694995199@48north.com
SUMMARY:Distance Race
DESCRIPTION:
URL:https://48north.com/event-calendar/distance-race-2/
LOCATION:Shilshole Bay Marina\, 7001 Seaview Ave NW\, Seattle\, WA\, 98117\, United States
CATEGORIES:Sailboat Races (SARC)
ORGANIZER;CN="Corinthian Yacht Club of Seattle":MAILTO:office@cycseattle.org
END:VEVENT
BEGIN:VEVENT
DTSTART;VALUE=DATE:20230812
DTEND;VALUE=DATE:20230813
DTSTAMP:20260425T064729
CREATED:20230103T202944Z
LAST-MODIFIED:20230103T202944Z
UID:10001211-1691798400-1691884799@48north.com
SUMMARY:Lake Moonlight Race
DESCRIPTION:
URL:https://48north.com/event-calendar/lake-moonlight-race/
LOCATION:Shilshole Bay Marina\, 7001 Seaview Ave NW\, Seattle\, WA\, 98117\, United States
CATEGORIES:Sailboat Races (SARC)
ORGANIZER;CN="Corinthian Yacht Club of Seattle":MAILTO:office@cycseattle.org
END:VEVENT
BEGIN:VEVENT
DTSTART;VALUE=DATE:20230610
DTEND;VALUE=DATE:20230612
DTSTAMP:20260425T064729
CREATED:20230103T202931Z
LAST-MODIFIED:20230103T202931Z
UID:10001170-1686355200-1686527999@48north.com
SUMMARY:J/Fest
DESCRIPTION:
URL:https://48north.com/event-calendar/j-fest-4/
LOCATION:Shilshole Bay Marina\, 7001 Seaview Ave NW\, Seattle\, WA\, 98117\, United States
CATEGORIES:Sailboat Races (SARC)
ORGANIZER;CN="Corinthian Yacht Club of Seattle":MAILTO:office@cycseattle.org
END:VEVENT
BEGIN:VEVENT
DTSTART;VALUE=DATE:20230422
DTEND;VALUE=DATE:20230424
DTSTAMP:20260425T064729
CREATED:20230103T202916Z
LAST-MODIFIED:20230103T202916Z
UID:10001141-1682121600-1682294399@48north.com
SUMMARY:Puget Sound Spring Regatta (Small Boats)
DESCRIPTION:
URL:https://48north.com/event-calendar/puget-sound-spring-regatta-small-boats-4/
LOCATION:Shilshole Bay Marina\, 7001 Seaview Ave NW\, Seattle\, WA\, 98117\, United States
CATEGORIES:Sailboat Races (SARC)
ORGANIZER;CN="Corinthian Yacht Club of Seattle":MAILTO:office@cycseattle.org
END:VEVENT
BEGIN:VEVENT
DTSTART;VALUE=DATE:20230415
DTEND;VALUE=DATE:20230417
DTSTAMP:20260425T064730
CREATED:20230103T202914Z
LAST-MODIFIED:20230103T202914Z
UID:10001133-1681516800-1681689599@48north.com
SUMMARY:Puget Sound Spring Regatta (Big Boats) (48N Top 25)
DESCRIPTION:
URL:https://48north.com/event-calendar/puget-sound-spring-regatta-big-boats-48n-top-25-4/
LOCATION:Shilshole Bay Marina\, 7001 Seaview Ave NW\, Seattle\, WA\, 98117\, United States
CATEGORIES:Sailboat Races (SARC)
ORGANIZER;CN="Corinthian Yacht Club of Seattle":MAILTO:office@cycseattle.org
END:VEVENT
BEGIN:VEVENT
DTSTART;VALUE=DATE:20230325
DTEND;VALUE=DATE:20230326
DTSTAMP:20260425T064730
CREATED:20230103T202909Z
LAST-MODIFIED:20230103T202909Z
UID:10001113-1679702400-1679788799@48north.com
SUMMARY:Center Sound Series #3 (48N Top 25)
DESCRIPTION:
URL:https://48north.com/event-calendar/center-sound-series-3-48n-top-25-2/
LOCATION:Shilshole Bay Marina\, 7001 Seaview Ave NW\, Seattle\, WA\, 98117\, United States
CATEGORIES:Sailboat Races (SARC)
ORGANIZER;CN="Corinthian Yacht Club of Seattle":MAILTO:office@cycseattle.org
END:VEVENT
BEGIN:VEVENT
DTSTART;VALUE=DATE:20230311
DTEND;VALUE=DATE:20230312
DTSTAMP:20260425T064730
CREATED:20230103T202907Z
LAST-MODIFIED:20230103T202907Z
UID:10000724-1678492800-1678579199@48north.com
SUMMARY:Center Sound Series #2 (48N Top 25)
DESCRIPTION:
URL:https://48north.com/event-calendar/center-sound-series-2-48n-top-25-2/
LOCATION:Shilshole Bay Marina\, 7001 Seaview Ave NW\, Seattle\, WA\, 98117\, United States
CATEGORIES:Sailboat Races (SARC)
ORGANIZER;CN="Corinthian Yacht Club of Seattle":MAILTO:office@cycseattle.org
END:VEVENT
BEGIN:VEVENT
DTSTART;VALUE=DATE:20230304
DTEND;VALUE=DATE:20230305
DTSTAMP:20260425T064730
CREATED:20230103T202906Z
LAST-MODIFIED:20230103T202906Z
UID:10000716-1677888000-1677974399@48north.com
SUMMARY:Blakely Rock CSS #1 (48N Top 25)
DESCRIPTION:
URL:https://48north.com/event-calendar/blakely-rock-css-1-48n-top-25-4/
LOCATION:Shilshole Bay Marina\, 7001 Seaview Ave NW\, Seattle\, WA\, 98117\, United States
CATEGORIES:Sailboat Races (SARC)
ORGANIZER;CN="Corinthian Yacht Club of Seattle":MAILTO:office@cycseattle.org
END:VEVENT
BEGIN:VEVENT
DTSTART;VALUE=DATE:20221119
DTEND;VALUE=DATE:20221121
DTSTAMP:20260425T064730
CREATED:20220822T202311Z
LAST-MODIFIED:20220822T202311Z
UID:10001081-1668816000-1668988799@48north.com
SUMMARY:Turkey Bowl
DESCRIPTION:
URL:https://48north.com/event-calendar/turkey-bowl-3/
CATEGORIES:Sailboat Races (SARC)
ORGANIZER;CN="Corinthian Yacht Club of Seattle":MAILTO:office@cycseattle.org
END:VEVENT
BEGIN:VEVENT
DTSTART;VALUE=DATE:20221008
DTEND;VALUE=DATE:20221010
DTSTAMP:20260425T064730
CREATED:20220822T192003Z
LAST-MODIFIED:20220822T192003Z
UID:10001061-1665187200-1665359999@48north.com
SUMMARY:Puget Sound Sailing Championship (Big Boats) (48N Top 25)
DESCRIPTION:
URL:https://48north.com/event-calendar/puget-sound-sailing-championship-big-boats-48n-top-25-3/
CATEGORIES:Sailboat Races (SARC)
ORGANIZER;CN="Corinthian Yacht Club of Seattle":MAILTO:office@cycseattle.org
END:VEVENT
BEGIN:VEVENT
DTSTART;VALUE=DATE:20221001
DTEND;VALUE=DATE:20221003
DTSTAMP:20260425T064730
CREATED:20220822T191602Z
LAST-MODIFIED:20220822T191602Z
UID:10001053-1664582400-1664755199@48north.com
SUMMARY:Puget Sound Sailing Championship (Small Boats) (48N Top 25)
DESCRIPTION:
URL:https://48north.com/event-calendar/puget-sound-sailing-championship-small-boats-48n-top-25/
CATEGORIES:Sailboat Races (SARC)
ORGANIZER;CN="Corinthian Yacht Club of Seattle":MAILTO:office@cycseattle.org
END:VEVENT
END:VCALENDAR