BEGIN:VCALENDAR
VERSION:2.0
PRODID:-//48° North - ECPv6.15.13.1//NONSGML v1.0//EN
CALSCALE:GREGORIAN
METHOD:PUBLISH
X-ORIGINAL-URL:https://48north.com
X-WR-CALDESC:Events for 48° North
REFRESH-INTERVAL;VALUE=DURATION:PT1H
X-Robots-Tag:noindex
X-PUBLISHED-TTL:PT1H
BEGIN:VTIMEZONE
TZID:America/Los_Angeles
BEGIN:DAYLIGHT
TZOFFSETFROM:-0800
TZOFFSETTO:-0700
TZNAME:PDT
DTSTART:20250309T100000
END:DAYLIGHT
BEGIN:STANDARD
TZOFFSETFROM:-0700
TZOFFSETTO:-0800
TZNAME:PST
DTSTART:20251102T090000
END:STANDARD
BEGIN:DAYLIGHT
TZOFFSETFROM:-0800
TZOFFSETTO:-0700
TZNAME:PDT
DTSTART:20260308T100000
END:DAYLIGHT
BEGIN:STANDARD
TZOFFSETFROM:-0700
TZOFFSETTO:-0800
TZNAME:PST
DTSTART:20261101T090000
END:STANDARD
BEGIN:DAYLIGHT
TZOFFSETFROM:-0800
TZOFFSETTO:-0700
TZNAME:PDT
DTSTART:20270314T100000
END:DAYLIGHT
BEGIN:STANDARD
TZOFFSETFROM:-0700
TZOFFSETTO:-0800
TZNAME:PST
DTSTART:20271107T090000
END:STANDARD
END:VTIMEZONE
BEGIN:VEVENT
DTSTART;VALUE=DATE:20260502
DTEND;VALUE=DATE:20260503
DTSTAMP:20260424T122832
CREATED:20251231T231444Z
LAST-MODIFIED:20251231T231444Z
UID:10002110-1777680000-1777766399@48north.com
SUMMARY:Mid-Distance Series 4
DESCRIPTION:
URL:https://48north.com/event-calendar/mid-distance-series-4-3/
CATEGORIES:Sailboat Races (SARC)
ORGANIZER;CN="Milltown Sailing Association":MAILTO:info@milltownsailing.org
END:VEVENT
BEGIN:VEVENT
DTSTART;VALUE=DATE:20260509
DTEND;VALUE=DATE:20260510
DTSTAMP:20260424T122832
CREATED:20251231T231644Z
LAST-MODIFIED:20251231T231644Z
UID:10002121-1778284800-1778371199@48north.com
SUMMARY:MSA/CYCE Challenge Cup
DESCRIPTION:
URL:https://48north.com/event-calendar/msa-cyce-challenge-cup/
CATEGORIES:Sailboat Races (SARC)
ORGANIZER;CN="Milltown Sailing Association":MAILTO:info@milltownsailing.org
END:VEVENT
BEGIN:VEVENT
DTSTART;VALUE=DATE:20260606
DTEND;VALUE=DATE:20260607
DTSTAMP:20260424T122832
CREATED:20251231T232145Z
LAST-MODIFIED:20251231T232145Z
UID:10002146-1780704000-1780790399@48north.com
SUMMARY:Saratoga Sprint\, Mid-Distance Series 5
DESCRIPTION:
URL:https://48north.com/event-calendar/saratoga-sprint-mid-distance-series-5/
CATEGORIES:Sailboat Races (SARC)
ORGANIZER;CN="Milltown Sailing Association":MAILTO:info@milltownsailing.org
END:VEVENT
BEGIN:VEVENT
DTSTART;VALUE=DATE:20260621
DTEND;VALUE=DATE:20260622
DTSTAMP:20260424T122832
CREATED:20251231T232745Z
LAST-MODIFIED:20251231T232745Z
UID:10002176-1782000000-1782086399@48north.com
SUMMARY:Solstice Single/Double Race
DESCRIPTION:
URL:https://48north.com/event-calendar/solstice-single-double-race-3/
CATEGORIES:Sailboat Races (SARC)
ORGANIZER;CN="Milltown Sailing Association":MAILTO:info@milltownsailing.org
END:VEVENT
BEGIN:VEVENT
DTSTART;VALUE=DATE:20260926
DTEND;VALUE=DATE:20260927
DTSTAMP:20260424T122832
CREATED:20260101T000208Z
LAST-MODIFIED:20260101T000208Z
UID:10002288-1790380800-1790467199@48north.com
SUMMARY:Autumn Series 1
DESCRIPTION:
URL:https://48north.com/event-calendar/autumn-series-1-3/
CATEGORIES:Sailboat Races (SARC)
ORGANIZER;CN="Milltown Sailing Association":MAILTO:info@milltownsailing.org
END:VEVENT
BEGIN:VEVENT
DTSTART;VALUE=DATE:20261010
DTEND;VALUE=DATE:20261011
DTSTAMP:20260424T122832
CREATED:20260101T002721Z
LAST-MODIFIED:20260101T002721Z
UID:10002310-1791590400-1791676799@48north.com
SUMMARY:Autumn Series 2
DESCRIPTION:
URL:https://48north.com/event-calendar/autumn-series-2-3/
CATEGORIES:Sailboat Races (SARC)
ORGANIZER;CN="Milltown Sailing Association":MAILTO:info@milltownsailing.org
END:VEVENT
END:VCALENDAR