BEGIN:VCALENDAR
VERSION:2.0
PRODID:-//48° North - ECPv6.15.13.1//NONSGML v1.0//EN
CALSCALE:GREGORIAN
METHOD:PUBLISH
X-WR-CALNAME:48° North
X-ORIGINAL-URL:https://48north.com
X-WR-CALDESC:Events for 48° North
REFRESH-INTERVAL;VALUE=DURATION:PT1H
X-Robots-Tag:noindex
X-PUBLISHED-TTL:PT1H
BEGIN:VTIMEZONE
TZID:America/Los_Angeles
BEGIN:DAYLIGHT
TZOFFSETFROM:-0800
TZOFFSETTO:-0700
TZNAME:PDT
DTSTART:20230312T100000
END:DAYLIGHT
BEGIN:STANDARD
TZOFFSETFROM:-0700
TZOFFSETTO:-0800
TZNAME:PST
DTSTART:20231105T090000
END:STANDARD
BEGIN:DAYLIGHT
TZOFFSETFROM:-0800
TZOFFSETTO:-0700
TZNAME:PDT
DTSTART:20240310T100000
END:DAYLIGHT
BEGIN:STANDARD
TZOFFSETFROM:-0700
TZOFFSETTO:-0800
TZNAME:PST
DTSTART:20241103T090000
END:STANDARD
BEGIN:DAYLIGHT
TZOFFSETFROM:-0800
TZOFFSETTO:-0700
TZNAME:PDT
DTSTART:20250309T100000
END:DAYLIGHT
BEGIN:STANDARD
TZOFFSETFROM:-0700
TZOFFSETTO:-0800
TZNAME:PST
DTSTART:20251102T090000
END:STANDARD
BEGIN:DAYLIGHT
TZOFFSETFROM:-0800
TZOFFSETTO:-0700
TZNAME:PDT
DTSTART:20260308T100000
END:DAYLIGHT
BEGIN:STANDARD
TZOFFSETFROM:-0700
TZOFFSETTO:-0800
TZNAME:PST
DTSTART:20261101T090000
END:STANDARD
END:VTIMEZONE
BEGIN:VEVENT
DTSTART;VALUE=DATE:20251108
DTEND;VALUE=DATE:20251109
DTSTAMP:20260424T153724
CREATED:20250101T040047Z
LAST-MODIFIED:20250101T040047Z
UID:10001974-1762560000-1762646399@48north.com
SUMMARY:Autumn Series 4
DESCRIPTION:
URL:https://48north.com/event-calendar/autumn-series-4-2/
CATEGORIES:Sailboat Races (SARC)
ORGANIZER;CN="Milltown Sailing Association":MAILTO:info@milltownsailing.org
END:VEVENT
BEGIN:VEVENT
DTSTART;VALUE=DATE:20251025
DTEND;VALUE=DATE:20251026
DTSTAMP:20260424T153724
CREATED:20250101T035846Z
LAST-MODIFIED:20250101T035846Z
UID:10001962-1761350400-1761436799@48north.com
SUMMARY:Autumn Series 3
DESCRIPTION:
URL:https://48north.com/event-calendar/autumn-series-3-2/
CATEGORIES:Sailboat Races (SARC)
ORGANIZER;CN="Milltown Sailing Association":MAILTO:info@milltownsailing.org
END:VEVENT
BEGIN:VEVENT
DTSTART;VALUE=DATE:20251011
DTEND;VALUE=DATE:20251012
DTSTAMP:20260424T153724
CREATED:20250101T035546Z
LAST-MODIFIED:20250101T035546Z
UID:10001947-1760140800-1760227199@48north.com
SUMMARY:Autumn Series 2
DESCRIPTION:
URL:https://48north.com/event-calendar/autumn-series-2-2/
CATEGORIES:Sailboat Races (SARC)
ORGANIZER;CN="Milltown Sailing Association":MAILTO:info@milltownsailing.org
END:VEVENT
BEGIN:VEVENT
DTSTART;VALUE=DATE:20250927
DTEND;VALUE=DATE:20250928
DTSTAMP:20260424T153724
CREATED:20250101T035247Z
LAST-MODIFIED:20250101T035247Z
UID:10001932-1758931200-1759017599@48north.com
SUMMARY:Autumn Series 1
DESCRIPTION:
URL:https://48north.com/event-calendar/autumn-series-1-2/
CATEGORIES:Sailboat Races (SARC)
ORGANIZER;CN="Milltown Sailing Association":MAILTO:info@milltownsailing.org
END:VEVENT
BEGIN:VEVENT
DTSTART;VALUE=DATE:20250913
DTEND;VALUE=DATE:20250914
DTSTAMP:20260424T153724
CREATED:20250101T034746Z
LAST-MODIFIED:20250101T034746Z
UID:10001906-1757721600-1757807999@48north.com
SUMMARY:Fall Regatta
DESCRIPTION:
URL:https://48north.com/event-calendar/fall-regatta-11/
CATEGORIES:Sailboat Races (SARC)
ORGANIZER;CN="Milltown Sailing Association":MAILTO:info@milltownsailing.org
END:VEVENT
BEGIN:VEVENT
DTSTART;VALUE=DATE:20250619
DTEND;VALUE=DATE:20250620
DTSTAMP:20260424T153724
CREATED:20250101T023344Z
LAST-MODIFIED:20250101T023344Z
UID:10001806-1750291200-1750377599@48north.com
SUMMARY:Solstice Single/Double Race
DESCRIPTION:
URL:https://48north.com/event-calendar/solstice-single-double-race-2/
CATEGORIES:Sailboat Races (SARC)
ORGANIZER;CN="Milltown Sailing Association":MAILTO:info@milltownsailing.org
END:VEVENT
BEGIN:VEVENT
DTSTART;VALUE=DATE:20250523
DTEND;VALUE=DATE:20250526
DTSTAMP:20260424T153724
CREATED:20250101T022144Z
LAST-MODIFIED:20250101T022144Z
UID:10001777-1747958400-1748217599@48north.com
SUMMARY:Pursuit Race 1
DESCRIPTION:
URL:https://48north.com/event-calendar/pursuit-race-1/
CATEGORIES:Sailboat Races (SARC)
ORGANIZER;CN="Milltown Sailing Association":MAILTO:info@milltownsailing.org
END:VEVENT
BEGIN:VEVENT
DTSTART;VALUE=DATE:20250517
DTEND;VALUE=DATE:20250518
DTSTAMP:20260424T153724
CREATED:20250101T021745Z
LAST-MODIFIED:20250101T021745Z
UID:10001769-1747440000-1747526399@48north.com
SUMMARY:Mid-Distance Series 5
DESCRIPTION:
URL:https://48north.com/event-calendar/mid-distance-series-5/
CATEGORIES:Sailboat Races (SARC)
ORGANIZER;CN="Milltown Sailing Association":MAILTO:info@milltownsailing.org
END:VEVENT
BEGIN:VEVENT
DTSTART;VALUE=DATE:20250503
DTEND;VALUE=DATE:20250504
DTSTAMP:20260424T153724
CREATED:20250101T021144Z
LAST-MODIFIED:20250101T021144Z
UID:10001752-1746230400-1746316799@48north.com
SUMMARY:Mid-Distance Series 4
DESCRIPTION:
URL:https://48north.com/event-calendar/mid-distance-series-4-2/
CATEGORIES:Sailboat Races (SARC)
ORGANIZER;CN="Milltown Sailing Association":MAILTO:info@milltownsailing.org
END:VEVENT
BEGIN:VEVENT
DTSTART;VALUE=DATE:20250419
DTEND;VALUE=DATE:20250420
DTSTAMP:20260424T153724
CREATED:20250101T020345Z
LAST-MODIFIED:20250101T020345Z
UID:10001734-1745020800-1745107199@48north.com
SUMMARY:Spring Regatta
DESCRIPTION:
URL:https://48north.com/event-calendar/spring-regatta-8/
CATEGORIES:Sailboat Races (SARC)
ORGANIZER;CN="Milltown Sailing Association":MAILTO:info@milltownsailing.org
END:VEVENT
BEGIN:VEVENT
DTSTART;VALUE=DATE:20250412
DTEND;VALUE=DATE:20250413
DTSTAMP:20260424T153724
CREATED:20250101T020144Z
LAST-MODIFIED:20250101T020144Z
UID:10001727-1744416000-1744502399@48north.com
SUMMARY:Mid-Distance Series 3
DESCRIPTION:
URL:https://48north.com/event-calendar/mid-distance-series-3-2/
CATEGORIES:Sailboat Races (SARC)
ORGANIZER;CN="Milltown Sailing Association":MAILTO:info@milltownsailing.org
END:VEVENT
BEGIN:VEVENT
DTSTART;VALUE=DATE:20250405
DTEND;VALUE=DATE:20250406
DTSTAMP:20260424T153724
CREATED:20250101T015744Z
LAST-MODIFIED:20250101T015744Z
UID:10001717-1743811200-1743897599@48north.com
SUMMARY:Mid-Distance Series 2
DESCRIPTION:
URL:https://48north.com/event-calendar/mid-distance-series-2-2/
CATEGORIES:Sailboat Races (SARC)
ORGANIZER;CN="Milltown Sailing Association":MAILTO:info@milltownsailing.org
END:VEVENT
BEGIN:VEVENT
DTSTART;VALUE=DATE:20250315
DTEND;VALUE=DATE:20250316
DTSTAMP:20260424T153724
CREATED:20250101T014945Z
LAST-MODIFIED:20250101T014945Z
UID:10001701-1741996800-1742083199@48north.com
SUMMARY:Mid-Distance Series 1
DESCRIPTION:
URL:https://48north.com/event-calendar/mid-distance-series-1-2/
CATEGORIES:Sailboat Races (SARC)
ORGANIZER;CN="Milltown Sailing Association":MAILTO:info@milltownsailing.org
END:VEVENT
BEGIN:VEVENT
DTSTART;VALUE=DATE:20250302
DTEND;VALUE=DATE:20250303
DTSTAMP:20260424T153724
CREATED:20250101T014744Z
LAST-MODIFIED:20250101T014744Z
UID:10001693-1740873600-1740959999@48north.com
SUMMARY:Winter Series 5
DESCRIPTION:
URL:https://48north.com/event-calendar/winter-series-5-2/
CATEGORIES:Sailboat Races (SARC)
ORGANIZER;CN="Milltown Sailing Association":MAILTO:info@milltownsailing.org
END:VEVENT
BEGIN:VEVENT
DTSTART;VALUE=DATE:20250216
DTEND;VALUE=DATE:20250217
DTSTAMP:20260424T153724
CREATED:20250101T014144Z
LAST-MODIFIED:20250101T014144Z
UID:10001678-1739664000-1739750399@48north.com
SUMMARY:Winter Series 4
DESCRIPTION:
URL:https://48north.com/event-calendar/winter-series-4-2/
CATEGORIES:Sailboat Races (SARC)
ORGANIZER;CN="Milltown Sailing Association":MAILTO:info@milltownsailing.org
END:VEVENT
BEGIN:VEVENT
DTSTART;VALUE=DATE:20250202
DTEND;VALUE=DATE:20250203
DTSTAMP:20260424T153724
CREATED:20250101T013545Z
LAST-MODIFIED:20250101T013545Z
UID:10001666-1738454400-1738540799@48north.com
SUMMARY:Winter Series 3
DESCRIPTION:
URL:https://48north.com/event-calendar/winter-series-3-2/
CATEGORIES:Sailboat Races (SARC)
ORGANIZER;CN="Milltown Sailing Association":MAILTO:info@milltownsailing.org
END:VEVENT
BEGIN:VEVENT
DTSTART;VALUE=DATE:20250119
DTEND;VALUE=DATE:20250120
DTSTAMP:20260424T153724
CREATED:20250101T013145Z
LAST-MODIFIED:20250101T013145Z
UID:10001656-1737244800-1737331199@48north.com
SUMMARY:Winter Series 2
DESCRIPTION:
URL:https://48north.com/event-calendar/winter-series-2-2/
CATEGORIES:Sailboat Races (SARC)
ORGANIZER;CN="Milltown Sailing Association":MAILTO:info@milltownsailing.org
END:VEVENT
BEGIN:VEVENT
DTSTART;VALUE=DATE:20250105
DTEND;VALUE=DATE:20250106
DTSTAMP:20260424T153724
CREATED:20250101T013040Z
LAST-MODIFIED:20250101T013040Z
UID:10001649-1736035200-1736121599@48north.com
SUMMARY:Winter Series 1
DESCRIPTION:
URL:https://48north.com/event-calendar/winter-series-1-2/
CATEGORIES:Sailboat Races (SARC)
ORGANIZER;CN="Milltown Sailing Association":MAILTO:info@milltownsailing.org
END:VEVENT
BEGIN:VEVENT
DTSTART;VALUE=DATE:20241116
DTEND;VALUE=DATE:20241117
DTSTAMP:20260424T153724
CREATED:20240103T204352Z
LAST-MODIFIED:20240103T204352Z
UID:10001622-1731715200-1731801599@48north.com
SUMMARY:Autumn Series 5
DESCRIPTION:
URL:https://48north.com/event-calendar/autumn-series-5/
CATEGORIES:Sailboat Races (SARC)
ORGANIZER;CN="Milltown Sailing Association":MAILTO:info@milltownsailing.org
END:VEVENT
BEGIN:VEVENT
DTSTART;VALUE=DATE:20241102
DTEND;VALUE=DATE:20241103
DTSTAMP:20260424T153724
CREATED:20240103T204239Z
LAST-MODIFIED:20240103T204239Z
UID:10001615-1730505600-1730591999@48north.com
SUMMARY:Autumn Series 4
DESCRIPTION:
URL:https://48north.com/event-calendar/autumn-series-4/
CATEGORIES:Sailboat Races (SARC)
ORGANIZER;CN="Milltown Sailing Association":MAILTO:info@milltownsailing.org
END:VEVENT
BEGIN:VEVENT
DTSTART;VALUE=DATE:20241019
DTEND;VALUE=DATE:20241020
DTSTAMP:20260424T153724
CREATED:20240103T201458Z
LAST-MODIFIED:20240103T201458Z
UID:10001598-1729296000-1729382399@48north.com
SUMMARY:Autumn Series 3
DESCRIPTION:
URL:https://48north.com/event-calendar/autumn-series-3/
CATEGORIES:Sailboat Races (SARC)
ORGANIZER;CN="Milltown Sailing Association":MAILTO:info@milltownsailing.org
END:VEVENT
BEGIN:VEVENT
DTSTART;VALUE=DATE:20241005
DTEND;VALUE=DATE:20241006
DTSTAMP:20260424T153724
CREATED:20240103T200858Z
LAST-MODIFIED:20240103T200858Z
UID:10001583-1728086400-1728172799@48north.com
SUMMARY:Autumn Series 2
DESCRIPTION:
URL:https://48north.com/event-calendar/autumn-series-2/
CATEGORIES:Sailboat Races (SARC)
ORGANIZER;CN="Milltown Sailing Association":MAILTO:info@milltownsailing.org
END:VEVENT
BEGIN:VEVENT
DTSTART;VALUE=DATE:20240921
DTEND;VALUE=DATE:20240922
DTSTAMP:20260424T153724
CREATED:20240103T200153Z
LAST-MODIFIED:20240103T200153Z
UID:10001561-1726876800-1726963199@48north.com
SUMMARY:Autumn Series 1
DESCRIPTION:
URL:https://48north.com/event-calendar/autumn-series-1/
CATEGORIES:Sailboat Races (SARC)
ORGANIZER;CN="Milltown Sailing Association":MAILTO:info@milltownsailing.org
END:VEVENT
BEGIN:VEVENT
DTSTART;VALUE=DATE:20240914
DTEND;VALUE=DATE:20240915
DTSTAMP:20260424T153724
CREATED:20240103T195551Z
LAST-MODIFIED:20240103T195551Z
UID:10001548-1726272000-1726358399@48north.com
SUMMARY:Fall Regatta
DESCRIPTION:
URL:https://48north.com/event-calendar/fall-regatta-9/
CATEGORIES:Sailboat Races (SARC)
ORGANIZER;CN="Milltown Sailing Association":MAILTO:info@milltownsailing.org
END:VEVENT
BEGIN:VEVENT
DTSTART;VALUE=DATE:20240620
DTEND;VALUE=DATE:20240621
DTSTAMP:20260424T153724
CREATED:20240102T034415Z
LAST-MODIFIED:20240102T034415Z
UID:10001466-1718841600-1718927999@48north.com
SUMMARY:Solstice Single/Double Race
DESCRIPTION:
URL:https://48north.com/event-calendar/solstice-single-double-race/
CATEGORIES:Sailboat Races (SARC)
ORGANIZER;CN="Milltown Sailing Association":MAILTO:info@milltownsailing.org
END:VEVENT
BEGIN:VEVENT
DTSTART;VALUE=DATE:20240608
DTEND;VALUE=DATE:20240609
DTSTAMP:20260424T153724
CREATED:20240102T033712Z
LAST-MODIFIED:20240102T033712Z
UID:10001448-1717804800-1717891199@48north.com
SUMMARY:Mid-Distance Series 5 - Saratoga Sprint
DESCRIPTION:
URL:https://48north.com/event-calendar/mid-distance-series-5-saratoga-sprint/
CATEGORIES:Sailboat Races (SARC)
ORGANIZER;CN="Milltown Sailing Association":MAILTO:info@milltownsailing.org
END:VEVENT
BEGIN:VEVENT
DTSTART;VALUE=DATE:20240511
DTEND;VALUE=DATE:20240512
DTSTAMP:20260424T153724
CREATED:20240102T032237Z
LAST-MODIFIED:20240102T032237Z
UID:10001419-1715385600-1715471999@48north.com
SUMMARY:Mid-Distance Series 4
DESCRIPTION:
URL:https://48north.com/event-calendar/mid-distance-series-4/
CATEGORIES:Sailboat Races (SARC)
ORGANIZER;CN="Milltown Sailing Association":MAILTO:info@milltownsailing.org
END:VEVENT
BEGIN:VEVENT
DTSTART;VALUE=DATE:20240420
DTEND;VALUE=DATE:20240421
DTSTAMP:20260424T153724
CREATED:20240102T031244Z
LAST-MODIFIED:20240102T031244Z
UID:10001391-1713571200-1713657599@48north.com
SUMMARY:Spring Regatta
DESCRIPTION:
URL:https://48north.com/event-calendar/spring-regatta-5/
CATEGORIES:Sailboat Races (SARC)
ORGANIZER;CN="Milltown Sailing Association":MAILTO:info@milltownsailing.org
END:VEVENT
BEGIN:VEVENT
DTSTART;VALUE=DATE:20240413
DTEND;VALUE=DATE:20240414
DTSTAMP:20260424T153724
CREATED:20240102T030842Z
LAST-MODIFIED:20240102T030842Z
UID:10001382-1712966400-1713052799@48north.com
SUMMARY:Mid-Distance Series 3
DESCRIPTION:
URL:https://48north.com/event-calendar/mid-distance-series-3/
CATEGORIES:Sailboat Races (SARC)
ORGANIZER;CN="Milltown Sailing Association":MAILTO:info@milltownsailing.org
END:VEVENT
BEGIN:VEVENT
DTSTART;VALUE=DATE:20240330
DTEND;VALUE=DATE:20240331
DTSTAMP:20260424T153724
CREATED:20240102T030640Z
LAST-MODIFIED:20240102T030640Z
UID:10001375-1711756800-1711843199@48north.com
SUMMARY:Mid-Distance Series 2
DESCRIPTION:
URL:https://48north.com/event-calendar/mid-distance-series-2/
CATEGORIES:Sailboat Races (SARC)
ORGANIZER;CN="Milltown Sailing Association":MAILTO:info@milltownsailing.org
END:VEVENT
END:VCALENDAR