BEGIN:VCALENDAR
VERSION:2.0
PRODID:-//48° North - ECPv6.15.13.1//NONSGML v1.0//EN
CALSCALE:GREGORIAN
METHOD:PUBLISH
X-WR-CALNAME:48° North
X-ORIGINAL-URL:https://48north.com
X-WR-CALDESC:Events for 48° North
REFRESH-INTERVAL;VALUE=DURATION:PT1H
X-Robots-Tag:noindex
X-PUBLISHED-TTL:PT1H
BEGIN:VTIMEZONE
TZID:America/Los_Angeles
BEGIN:DAYLIGHT
TZOFFSETFROM:-0800
TZOFFSETTO:-0700
TZNAME:PDT
DTSTART:20190310T100000
END:DAYLIGHT
BEGIN:STANDARD
TZOFFSETFROM:-0700
TZOFFSETTO:-0800
TZNAME:PST
DTSTART:20191103T090000
END:STANDARD
BEGIN:DAYLIGHT
TZOFFSETFROM:-0800
TZOFFSETTO:-0700
TZNAME:PDT
DTSTART:20200308T100000
END:DAYLIGHT
BEGIN:STANDARD
TZOFFSETFROM:-0700
TZOFFSETTO:-0800
TZNAME:PST
DTSTART:20201101T090000
END:STANDARD
BEGIN:DAYLIGHT
TZOFFSETFROM:-0800
TZOFFSETTO:-0700
TZNAME:PDT
DTSTART:20210314T100000
END:DAYLIGHT
BEGIN:STANDARD
TZOFFSETFROM:-0700
TZOFFSETTO:-0800
TZNAME:PST
DTSTART:20211107T090000
END:STANDARD
BEGIN:DAYLIGHT
TZOFFSETFROM:-0800
TZOFFSETTO:-0700
TZNAME:PDT
DTSTART:20220313T100000
END:DAYLIGHT
BEGIN:STANDARD
TZOFFSETFROM:-0700
TZOFFSETTO:-0800
TZNAME:PST
DTSTART:20221106T090000
END:STANDARD
BEGIN:DAYLIGHT
TZOFFSETFROM:-0800
TZOFFSETTO:-0700
TZNAME:PDT
DTSTART:20230312T100000
END:DAYLIGHT
BEGIN:STANDARD
TZOFFSETFROM:-0700
TZOFFSETTO:-0800
TZNAME:PST
DTSTART:20231105T090000
END:STANDARD
BEGIN:DAYLIGHT
TZOFFSETFROM:-0800
TZOFFSETTO:-0700
TZNAME:PDT
DTSTART:20240310T100000
END:DAYLIGHT
BEGIN:STANDARD
TZOFFSETFROM:-0700
TZOFFSETTO:-0800
TZNAME:PST
DTSTART:20241103T090000
END:STANDARD
BEGIN:DAYLIGHT
TZOFFSETFROM:-0800
TZOFFSETTO:-0700
TZNAME:PDT
DTSTART:20250309T100000
END:DAYLIGHT
BEGIN:STANDARD
TZOFFSETFROM:-0700
TZOFFSETTO:-0800
TZNAME:PST
DTSTART:20251102T090000
END:STANDARD
END:VTIMEZONE
BEGIN:VEVENT
DTSTART;VALUE=DATE:20240114
DTEND;VALUE=DATE:20240115
DTSTAMP:20260423T195553
CREATED:20230103T203017Z
LAST-MODIFIED:20230103T203017Z
UID:10001296-1705190400-1705276799@48north.com
SUMMARY:Goosebumps Race Series #1
DESCRIPTION:
URL:https://48north.com/event-calendar/goosebumps-race-series-1-4/
CATEGORIES:Sailboat Races (SARC)
ORGANIZER;CN="Seattle Singles Yacht Club":MAILTO:info@seattlesinglesyc.com
END:VEVENT
BEGIN:VEVENT
DTSTART;VALUE=DATE:20230923
DTEND;VALUE=DATE:20230924
DTSTAMP:20260423T195553
CREATED:20230103T202959Z
LAST-MODIFIED:20230103T202959Z
UID:10001249-1695427200-1695513599@48north.com
SUMMARY:NW Harvest Benefit
DESCRIPTION:
URL:https://48north.com/event-calendar/nw-harvest-benefit-4/
LOCATION:Shilshole Bay Marina\, 7001 Seaview Ave NW\, Seattle\, WA\, 98117\, United States
CATEGORIES:Sailboat Races (SARC)
ORGANIZER;CN="Seattle Singles Yacht Club":MAILTO:info@seattlesinglesyc.com
END:VEVENT
BEGIN:VEVENT
DTSTART;VALUE=DATE:20230219
DTEND;VALUE=DATE:20230220
DTSTAMP:20260423T195553
CREATED:20230103T202904Z
LAST-MODIFIED:20230103T202904Z
UID:10001108-1676764800-1676851199@48north.com
SUMMARY:Goosebumps Race Series #6
DESCRIPTION:
URL:https://48north.com/event-calendar/goosebumps-race-series-6-3/
CATEGORIES:Sailboat Races (SARC)
ORGANIZER;CN="Seattle Singles Yacht Club":MAILTO:info@seattlesinglesyc.com
END:VEVENT
BEGIN:VEVENT
DTSTART;VALUE=DATE:20230212
DTEND;VALUE=DATE:20230213
DTSTAMP:20260423T195553
CREATED:20230103T202903Z
LAST-MODIFIED:20230103T202903Z
UID:10001104-1676160000-1676246399@48north.com
SUMMARY:Goosebumps Race Series #5
DESCRIPTION:
URL:https://48north.com/event-calendar/goosebumps-race-series-5-3/
CATEGORIES:Sailboat Races (SARC)
ORGANIZER;CN="Seattle Singles Yacht Club":MAILTO:info@seattlesinglesyc.com
END:VEVENT
BEGIN:VEVENT
DTSTART;VALUE=DATE:20230205
DTEND;VALUE=DATE:20230206
DTSTAMP:20260423T195553
CREATED:20230103T202901Z
LAST-MODIFIED:20230103T202901Z
UID:10001096-1675555200-1675641599@48north.com
SUMMARY:Goosebumps Race Series #4
DESCRIPTION:
URL:https://48north.com/event-calendar/goosebumps-race-series-4-3/
CATEGORIES:Sailboat Races (SARC)
ORGANIZER;CN="Seattle Singles Yacht Club":MAILTO:info@seattlesinglesyc.com
END:VEVENT
BEGIN:VEVENT
DTSTART;VALUE=DATE:20230129
DTEND;VALUE=DATE:20230130
DTSTAMP:20260423T195553
CREATED:20230103T202859Z
LAST-MODIFIED:20230103T202859Z
UID:10001089-1674950400-1675036799@48north.com
SUMMARY:Goosebumps Race Series #3
DESCRIPTION:
URL:https://48north.com/event-calendar/goosebumps-race-series-3-3/
CATEGORIES:Sailboat Races (SARC)
ORGANIZER;CN="Seattle Singles Yacht Club":MAILTO:info@seattlesinglesyc.com
END:VEVENT
BEGIN:VEVENT
DTSTART;VALUE=DATE:20230122
DTEND;VALUE=DATE:20230123
DTSTAMP:20260423T195553
CREATED:20230103T202859Z
LAST-MODIFIED:20230103T202859Z
UID:10001088-1674345600-1674431999@48north.com
SUMMARY:Goosebumps Race Series #2
DESCRIPTION:
URL:https://48north.com/event-calendar/goosebumps-race-series-2-3/
CATEGORIES:Sailboat Races (SARC)
ORGANIZER;CN="Seattle Singles Yacht Club":MAILTO:info@seattlesinglesyc.com
END:VEVENT
BEGIN:VEVENT
DTSTART;VALUE=DATE:20220917
DTEND;VALUE=DATE:20220918
DTSTAMP:20260423T195553
CREATED:20220822T184114Z
LAST-MODIFIED:20220822T184114Z
UID:10001025-1663372800-1663459199@48north.com
SUMMARY:NW Harvest Benefit
DESCRIPTION:
URL:https://48north.com/event-calendar/nw-harvest-benefit-3/
CATEGORIES:Sailboat Races (SARC)
ORGANIZER;CN="Seattle Singles Yacht Club":MAILTO:info@seattlesinglesyc.com
END:VEVENT
BEGIN:VEVENT
DTSTART;VALUE=DATE:20220220
DTEND;VALUE=DATE:20220221
DTSTAMP:20260423T195553
CREATED:20220103T191424Z
LAST-MODIFIED:20220103T191424Z
UID:10000933-1645315200-1645401599@48north.com
SUMMARY:Goosebumps Race Series #6
DESCRIPTION:
URL:https://48north.com/event-calendar/goosebumps-race-series-6-2/
CATEGORIES:Sailboat Races (SARC)
ORGANIZER;CN="Seattle Singles Yacht Club":MAILTO:info@seattlesinglesyc.com
END:VEVENT
BEGIN:VEVENT
DTSTART;VALUE=DATE:20220213
DTEND;VALUE=DATE:20220214
DTSTAMP:20260423T195553
CREATED:20220103T191408Z
LAST-MODIFIED:20220103T191408Z
UID:10000540-1644710400-1644796799@48north.com
SUMMARY:Goosebumps Race Series #5
DESCRIPTION:
URL:https://48north.com/event-calendar/goosebumps-race-series-5-2/
CATEGORIES:Sailboat Races (SARC)
ORGANIZER;CN="Seattle Singles Yacht Club":MAILTO:info@seattlesinglesyc.com
END:VEVENT
BEGIN:VEVENT
DTSTART;VALUE=DATE:20220206
DTEND;VALUE=DATE:20220207
DTSTAMP:20260423T195553
CREATED:20220103T191352Z
LAST-MODIFIED:20220103T191352Z
UID:10000532-1644105600-1644191999@48north.com
SUMMARY:Goosebumps Race Series #4
DESCRIPTION:
URL:https://48north.com/event-calendar/goosebumps-race-series-4-2/
CATEGORIES:Sailboat Races (SARC)
ORGANIZER;CN="Seattle Singles Yacht Club":MAILTO:info@seattlesinglesyc.com
END:VEVENT
BEGIN:VEVENT
DTSTART;VALUE=DATE:20220130
DTEND;VALUE=DATE:20220131
DTSTAMP:20260423T195553
CREATED:20220103T191337Z
LAST-MODIFIED:20220103T191337Z
UID:10000926-1643500800-1643587199@48north.com
SUMMARY:Goosebumps Race Series #3
DESCRIPTION:
URL:https://48north.com/event-calendar/goosebumps-race-series-3-2/
CATEGORIES:Sailboat Races (SARC)
ORGANIZER;CN="Seattle Singles Yacht Club":MAILTO:info@seattlesinglesyc.com
END:VEVENT
BEGIN:VEVENT
DTSTART;VALUE=DATE:20220123
DTEND;VALUE=DATE:20220124
DTSTAMP:20260423T195553
CREATED:20220103T191337Z
LAST-MODIFIED:20220103T191337Z
UID:10000924-1642896000-1642982399@48north.com
SUMMARY:Goosebumps Race Series #2
DESCRIPTION:
URL:https://48north.com/event-calendar/goosebumps-race-series-2-2/
CATEGORIES:Sailboat Races (SARC)
ORGANIZER;CN="Seattle Singles Yacht Club":MAILTO:info@seattlesinglesyc.com
END:VEVENT
BEGIN:VEVENT
DTSTART;VALUE=DATE:20220116
DTEND;VALUE=DATE:20220117
DTSTAMP:20260423T195553
CREATED:20220103T191318Z
LAST-MODIFIED:20220103T191318Z
UID:10000919-1642291200-1642377599@48north.com
SUMMARY:Goosebumps Race Series #1
DESCRIPTION:
URL:https://48north.com/event-calendar/goosebumps-race-series-1-2/
CATEGORIES:Sailboat Races (SARC)
ORGANIZER;CN="Seattle Singles Yacht Club":MAILTO:info@seattlesinglesyc.com
END:VEVENT
BEGIN:VEVENT
DTSTART;VALUE=DATE:20210925
DTEND;VALUE=DATE:20210926
DTSTAMP:20260423T195553
CREATED:20201222T160949Z
LAST-MODIFIED:20201222T160949Z
UID:10000839-1632528000-1632614399@48north.com
SUMMARY:NW Harvest Benefit
DESCRIPTION:
URL:https://48north.com/event-calendar/nw-harvest-benefit-2/
LOCATION:Shilshole Bay Marina\, 7001 Seaview Ave NW\, Seattle\, WA\, 98117\, United States
CATEGORIES:Sailboat Races (SARC)
ORGANIZER;CN="Seattle Singles Yacht Club":MAILTO:info@seattlesinglesyc.com
END:VEVENT
BEGIN:VEVENT
DTSTART;VALUE=DATE:20210221
DTEND;VALUE=DATE:20210222
DTSTAMP:20260423T195553
CREATED:20201222T160642Z
LAST-MODIFIED:20201222T160642Z
UID:10000334-1613865600-1613951999@48north.com
SUMMARY:Goosebumps Race Series #6
DESCRIPTION:
URL:https://48north.com/event-calendar/goosebumps-race-series-6/
CATEGORIES:Sailboat Races (SARC)
ORGANIZER;CN="Seattle Singles Yacht Club":MAILTO:info@seattlesinglesyc.com
END:VEVENT
BEGIN:VEVENT
DTSTART;VALUE=DATE:20210214
DTEND;VALUE=DATE:20210215
DTSTAMP:20260423T195553
CREATED:20201222T160638Z
LAST-MODIFIED:20201222T160638Z
UID:10000327-1613260800-1613347199@48north.com
SUMMARY:Goosebumps Race Series #5
DESCRIPTION:
URL:https://48north.com/event-calendar/goosebumps-race-series-5/
CATEGORIES:Sailboat Races (SARC)
ORGANIZER;CN="Seattle Singles Yacht Club":MAILTO:info@seattlesinglesyc.com
END:VEVENT
BEGIN:VEVENT
DTSTART;VALUE=DATE:20210207
DTEND;VALUE=DATE:20210208
DTSTAMP:20260423T195553
CREATED:20201222T160629Z
LAST-MODIFIED:20201222T160629Z
UID:10000581-1612656000-1612742399@48north.com
SUMMARY:Goosebumps Race Series #4
DESCRIPTION:
URL:https://48north.com/event-calendar/goosebumps-race-series-4/
CATEGORIES:Sailboat Races (SARC)
ORGANIZER;CN="Seattle Singles Yacht Club":MAILTO:info@seattlesinglesyc.com
END:VEVENT
BEGIN:VEVENT
DTSTART;VALUE=DATE:20210131
DTEND;VALUE=DATE:20210201
DTSTAMP:20260423T195553
CREATED:20201222T160625Z
LAST-MODIFIED:20201222T160625Z
UID:10000574-1612051200-1612137599@48north.com
SUMMARY:Goosebumps Race Series #3
DESCRIPTION:
URL:https://48north.com/event-calendar/goosebumps-race-series-3/
CATEGORIES:Sailboat Races (SARC)
ORGANIZER;CN="Seattle Singles Yacht Club":MAILTO:info@seattlesinglesyc.com
END:VEVENT
BEGIN:VEVENT
DTSTART;VALUE=DATE:20210124
DTEND;VALUE=DATE:20210125
DTSTAMP:20260423T195553
CREATED:20201222T160625Z
LAST-MODIFIED:20201222T160625Z
UID:10000566-1611446400-1611532799@48north.com
SUMMARY:Goosebumps Race Series #2
DESCRIPTION:
URL:https://48north.com/event-calendar/goosebumps-race-series-2/
CATEGORIES:Sailboat Races (SARC)
ORGANIZER;CN="Seattle Singles Yacht Club":MAILTO:info@seattlesinglesyc.com
END:VEVENT
BEGIN:VEVENT
DTSTART;VALUE=DATE:20210117
DTEND;VALUE=DATE:20210118
DTSTAMP:20260423T195553
CREATED:20201222T160620Z
LAST-MODIFIED:20201222T160620Z
UID:10000545-1610841600-1610927999@48north.com
SUMMARY:Goosebumps Race Series #1
DESCRIPTION:
URL:https://48north.com/event-calendar/goosebumps-race-series-1/
CATEGORIES:Sailboat Races (SARC)
ORGANIZER;CN="Seattle Singles Yacht Club":MAILTO:info@seattlesinglesyc.com
END:VEVENT
BEGIN:VEVENT
DTSTART;VALUE=DATE:20200926
DTEND;VALUE=DATE:20200927
DTSTAMP:20260423T195553
CREATED:20200317T181751Z
LAST-MODIFIED:20200317T182909Z
UID:10000481-1601078400-1601164799@48north.com
SUMMARY:NW Harvest Benefit
DESCRIPTION:
URL:https://48north.com/event-calendar/nw-harvest-benefit/
CATEGORIES:Sailboat Races (SARC)
ORGANIZER;CN="Seattle Singles Yacht Club":MAILTO:info@seattlesinglesyc.com
END:VEVENT
BEGIN:VEVENT
DTSTART;TZID=America/Los_Angeles:20200126T130000
DTEND;TZID=America/Los_Angeles:20200126T150000
DTSTAMP:20260423T195553
CREATED:20200317T181016Z
LAST-MODIFIED:20200317T181016Z
UID:10000143-1580043600-1580050800@48north.com
SUMMARY:Goosebumps Lake Union
DESCRIPTION:The Seattle Singles Yacht Club hosts the casual Goosebumps winter race series on Lake Union for intrepid sailors. These races are at the same time and location for the first three Sundays of January and the first three Sundays of February. The flotilla afterward on Lake Union is a part of the fun.
URL:https://48north.com/event-calendar/goosebumps-lake-union/
CATEGORIES:Sailboat Races (SARC),Flotilla
ORGANIZER;CN="Seattle Singles Yacht Club":MAILTO:info@seattlesinglesyc.com
END:VEVENT
END:VCALENDAR