BEGIN:VCALENDAR
VERSION:2.0
PRODID:-//48° North - ECPv6.15.13.1//NONSGML v1.0//EN
CALSCALE:GREGORIAN
METHOD:PUBLISH
X-ORIGINAL-URL:https://48north.com
X-WR-CALDESC:Events for 48° North
REFRESH-INTERVAL;VALUE=DURATION:PT1H
X-Robots-Tag:noindex
X-PUBLISHED-TTL:PT1H
BEGIN:VTIMEZONE
TZID:America/Los_Angeles
BEGIN:DAYLIGHT
TZOFFSETFROM:-0800
TZOFFSETTO:-0700
TZNAME:PDT
DTSTART:20250309T100000
END:DAYLIGHT
BEGIN:STANDARD
TZOFFSETFROM:-0700
TZOFFSETTO:-0800
TZNAME:PST
DTSTART:20251102T090000
END:STANDARD
BEGIN:DAYLIGHT
TZOFFSETFROM:-0800
TZOFFSETTO:-0700
TZNAME:PDT
DTSTART:20260308T100000
END:DAYLIGHT
BEGIN:STANDARD
TZOFFSETFROM:-0700
TZOFFSETTO:-0800
TZNAME:PST
DTSTART:20261101T090000
END:STANDARD
BEGIN:DAYLIGHT
TZOFFSETFROM:-0800
TZOFFSETTO:-0700
TZNAME:PDT
DTSTART:20270314T100000
END:DAYLIGHT
BEGIN:STANDARD
TZOFFSETFROM:-0700
TZOFFSETTO:-0800
TZNAME:PST
DTSTART:20271107T090000
END:STANDARD
END:VTIMEZONE
BEGIN:VEVENT
DTSTART;VALUE=DATE:20260502
DTEND;VALUE=DATE:20260504
DTSTAMP:20260425T113244
CREATED:20251231T231643Z
LAST-MODIFIED:20251231T231643Z
UID:10002118-1777680000-1777852799@48north.com
SUMMARY:Race to the Straits
DESCRIPTION:
URL:https://48north.com/event-calendar/race-to-the-straits-7/
CATEGORIES:Sailboat Races (SARC)
ORGANIZER;CN="Sloop Tavern Yacht Club":MAILTO:commodore@styc.org
END:VEVENT
BEGIN:VEVENT
DTSTART;VALUE=DATE:20260606
DTEND;VALUE=DATE:20260607
DTSTAMP:20260425T113244
CREATED:20251231T232145Z
LAST-MODIFIED:20251231T232145Z
UID:10002147-1780704000-1780790399@48north.com
SUMMARY:Three Buoy Fiasco
DESCRIPTION:
URL:https://48north.com/event-calendar/three-buoy-fiasco-6/
CATEGORIES:Sailboat Races (SARC)
ORGANIZER;CN="Sloop Tavern Yacht Club":MAILTO:commodore@styc.org
END:VEVENT
BEGIN:VEVENT
DTSTART;VALUE=DATE:20260627
DTEND;VALUE=DATE:20260628
DTSTAMP:20260425T113244
CREATED:20251231T232844Z
LAST-MODIFIED:20251231T232844Z
UID:10002180-1782518400-1782604799@48north.com
SUMMARY:Women at the Helm 1
DESCRIPTION:
URL:https://48north.com/event-calendar/women-at-the-helm-1-4/
CATEGORIES:Sailboat Races (SARC)
ORGANIZER;CN="Sloop Tavern Yacht Club":MAILTO:commodore@styc.org
END:VEVENT
BEGIN:VEVENT
DTSTART;VALUE=DATE:20260801
DTEND;VALUE=DATE:20260803
DTSTAMP:20260425T113244
CREATED:20251231T234609Z
LAST-MODIFIED:20251231T234609Z
UID:10002210-1785542400-1785715199@48north.com
SUMMARY:Down the Sound
DESCRIPTION:
URL:https://48north.com/event-calendar/down-the-sound-6/
CATEGORIES:Sailboat Races (SARC)
ORGANIZER;CN="Sloop Tavern Yacht Club":MAILTO:commodore@styc.org
END:VEVENT
BEGIN:VEVENT
DTSTART;VALUE=DATE:20260815
DTEND;VALUE=DATE:20260816
DTSTAMP:20260425T113244
CREATED:20251231T234909Z
LAST-MODIFIED:20251231T234909Z
UID:10002227-1786752000-1786838399@48north.com
SUMMARY:Single Handed Race
DESCRIPTION:
URL:https://48north.com/event-calendar/single-handed-race-13/
CATEGORIES:Sailboat Races (SARC)
ORGANIZER;CN="Sloop Tavern Yacht Club":MAILTO:commodore@styc.org
END:VEVENT
BEGIN:VEVENT
DTSTART;VALUE=DATE:20260823
DTEND;VALUE=DATE:20260824
DTSTAMP:20260425T113244
CREATED:20251231T235109Z
LAST-MODIFIED:20251231T235109Z
UID:10002237-1787443200-1787529599@48north.com
SUMMARY:J & J Race
DESCRIPTION:
URL:https://48north.com/event-calendar/j-j-race-7/
CATEGORIES:Sailboat Races (SARC)
ORGANIZER;CN="Sloop Tavern Yacht Club":MAILTO:commodore@styc.org
END:VEVENT
BEGIN:VEVENT
DTSTART;VALUE=DATE:20260912
DTEND;VALUE=DATE:20260913
DTSTAMP:20260425T113244
CREATED:20251231T235608Z
LAST-MODIFIED:20251231T235608Z
UID:10002260-1789171200-1789257599@48north.com
SUMMARY:Women at the Helm 2
DESCRIPTION:
URL:https://48north.com/event-calendar/women-at-the-helm-2-5/
CATEGORIES:Sailboat Races (SARC)
ORGANIZER;CN="Sloop Tavern Yacht Club":MAILTO:commodore@styc.org
END:VEVENT
BEGIN:VEVENT
DTSTART;VALUE=DATE:20260919
DTEND;VALUE=DATE:20260920
DTSTAMP:20260425T113244
CREATED:20251231T235808Z
LAST-MODIFIED:20251231T235907Z
UID:10002270-1789776000-1789862399@48north.com
SUMMARY:Fall Regatta
DESCRIPTION:
URL:https://48north.com/event-calendar/fall-regatta-13/
CATEGORIES:Sailboat Races (SARC)
ORGANIZER;CN="Sloop Tavern Yacht Club":MAILTO:commodore@styc.org
END:VEVENT
BEGIN:VEVENT
DTSTART;VALUE=DATE:20260920
DTEND;VALUE=DATE:20260921
DTSTAMP:20260425T113244
CREATED:20260101T000109Z
LAST-MODIFIED:20260101T000109Z
UID:10002285-1789862400-1789948799@48north.com
SUMMARY:Race Your House
DESCRIPTION:
URL:https://48north.com/event-calendar/race-your-house-7/
CATEGORIES:Sailboat Races (SARC)
ORGANIZER;CN="Sloop Tavern Yacht Club":MAILTO:commodore@styc.org
END:VEVENT
END:VCALENDAR