BEGIN:VCALENDAR
VERSION:2.0
PRODID:-//48° North - ECPv6.15.13.1//NONSGML v1.0//EN
CALSCALE:GREGORIAN
METHOD:PUBLISH
X-ORIGINAL-URL:https://48north.com
X-WR-CALDESC:Events for 48° North
REFRESH-INTERVAL;VALUE=DURATION:PT1H
X-Robots-Tag:noindex
X-PUBLISHED-TTL:PT1H
BEGIN:VTIMEZONE
TZID:America/Los_Angeles
BEGIN:DAYLIGHT
TZOFFSETFROM:-0800
TZOFFSETTO:-0700
TZNAME:PDT
DTSTART:20190310T100000
END:DAYLIGHT
BEGIN:STANDARD
TZOFFSETFROM:-0700
TZOFFSETTO:-0800
TZNAME:PST
DTSTART:20191103T090000
END:STANDARD
BEGIN:DAYLIGHT
TZOFFSETFROM:-0800
TZOFFSETTO:-0700
TZNAME:PDT
DTSTART:20200308T100000
END:DAYLIGHT
BEGIN:STANDARD
TZOFFSETFROM:-0700
TZOFFSETTO:-0800
TZNAME:PST
DTSTART:20201101T090000
END:STANDARD
BEGIN:DAYLIGHT
TZOFFSETFROM:-0800
TZOFFSETTO:-0700
TZNAME:PDT
DTSTART:20210314T100000
END:DAYLIGHT
BEGIN:STANDARD
TZOFFSETFROM:-0700
TZOFFSETTO:-0800
TZNAME:PST
DTSTART:20211107T090000
END:STANDARD
BEGIN:DAYLIGHT
TZOFFSETFROM:-0800
TZOFFSETTO:-0700
TZNAME:PDT
DTSTART:20220313T100000
END:DAYLIGHT
BEGIN:STANDARD
TZOFFSETFROM:-0700
TZOFFSETTO:-0800
TZNAME:PST
DTSTART:20221106T090000
END:STANDARD
BEGIN:DAYLIGHT
TZOFFSETFROM:-0800
TZOFFSETTO:-0700
TZNAME:PDT
DTSTART:20230312T100000
END:DAYLIGHT
BEGIN:STANDARD
TZOFFSETFROM:-0700
TZOFFSETTO:-0800
TZNAME:PST
DTSTART:20231105T090000
END:STANDARD
BEGIN:DAYLIGHT
TZOFFSETFROM:-0800
TZOFFSETTO:-0700
TZNAME:PDT
DTSTART:20240310T100000
END:DAYLIGHT
BEGIN:STANDARD
TZOFFSETFROM:-0700
TZOFFSETTO:-0800
TZNAME:PST
DTSTART:20241103T090000
END:STANDARD
END:VTIMEZONE
BEGIN:VEVENT
DTSTART;VALUE=DATE:20231021
DTEND;VALUE=DATE:20231023
DTSTAMP:20260420T093116
CREATED:20230103T203009Z
LAST-MODIFIED:20230103T203009Z
UID:10001277-1697846400-1698019199@48north.com
SUMMARY:Pumpkin Regatta — ILCA and Doublehanded
DESCRIPTION:
URL:https://48north.com/event-calendar/pumpkin-regatta-ilca-and-doublehanded/
LOCATION:West Vancouver Yacht Club\, 5854 Marine Dr\, West Vancouver\, BC\, V7W 2S2\, Canada
CATEGORIES:Sailboat Races (SARC)
END:VEVENT
BEGIN:VEVENT
DTSTART;VALUE=DATE:20231014
DTEND;VALUE=DATE:20231016
DTSTAMP:20260420T093116
CREATED:20230103T203007Z
LAST-MODIFIED:20230103T203007Z
UID:10001271-1697241600-1697414399@48north.com
SUMMARY:Pumpkin Regatta — Optis
DESCRIPTION:
URL:https://48north.com/event-calendar/pumpkin-regatta-optis/
LOCATION:West Vancouver Yacht Club\, 5854 Marine Dr\, West Vancouver\, BC\, V7W 2S2\, Canada
CATEGORIES:Sailboat Races (SARC)
END:VEVENT
BEGIN:VEVENT
DTSTART;VALUE=DATE:20230916
DTEND;VALUE=DATE:20230918
DTSTAMP:20260420T093116
CREATED:20230103T202958Z
LAST-MODIFIED:20230103T202958Z
UID:10001241-1694822400-1694995199@48north.com
SUMMARY:Howe Sound Regatta (VARC)
DESCRIPTION:
URL:https://48north.com/event-calendar/howe-sound-regatta-varc-4/
LOCATION:West Vancouver Yacht Club\, 5854 Marine Dr\, West Vancouver\, BC\, V7W 2S2\, Canada
CATEGORIES:Sailboat Races (SARC)
END:VEVENT
BEGIN:VEVENT
DTSTART;VALUE=DATE:20230827
DTEND;VALUE=DATE:20230828
DTSTAMP:20260420T093116
CREATED:20230103T202949Z
LAST-MODIFIED:20230103T202949Z
UID:10001221-1693094400-1693180799@48north.com
SUMMARY:Jack & Jill Race (VARC)
DESCRIPTION:
URL:https://48north.com/event-calendar/jack-jill-race-varc-3/
LOCATION:West Vancouver Yacht Club\, 5854 Marine Dr\, West Vancouver\, BC\, V7W 2S2\, Canada
CATEGORIES:Sailboat Races (SARC)
END:VEVENT
BEGIN:VEVENT
DTSTART;VALUE=DATE:20230821
DTEND;VALUE=DATE:20230827
DTSTAMP:20260420T093116
CREATED:20230103T202947Z
LAST-MODIFIED:20230103T202947Z
UID:10000826-1692576000-1693094399@48north.com
SUMMARY:Canadian Optimist Nationals
DESCRIPTION:
URL:https://48north.com/event-calendar/canadian-optimist-nationals/
LOCATION:West Vancouver Yacht Club\, 5854 Marine Dr\, West Vancouver\, BC\, V7W 2S2\, Canada
CATEGORIES:Sailboat Races (SARC)
END:VEVENT
BEGIN:VEVENT
DTSTART;VALUE=DATE:20230429
DTEND;VALUE=DATE:20230430
DTSTAMP:20260420T093116
CREATED:20230103T202917Z
LAST-MODIFIED:20230103T202917Z
UID:10000752-1682726400-1682812799@48north.com
SUMMARY:Collingwood/Halibut Bank (VARC)
DESCRIPTION:
URL:https://48north.com/event-calendar/collingwood-halibut-bank-varc-2/
LOCATION:West Vancouver Yacht Club\, 5854 Marine Dr\, West Vancouver\, BC\, V7W 2S2\, Canada
CATEGORIES:Sailboat Races (SARC)
END:VEVENT
BEGIN:VEVENT
DTSTART;VALUE=DATE:20230407
DTEND;VALUE=DATE:20230410
DTSTAMP:20260420T093116
CREATED:20230103T202912Z
LAST-MODIFIED:20230103T202912Z
UID:10001122-1680825600-1681084799@48north.com
SUMMARY:Southern Straits Classic (VARC) (48N Top 25)
DESCRIPTION:
URL:https://48north.com/event-calendar/southern-straits-classic-varc-48n-top-25-4/
LOCATION:West Vancouver Yacht Club\, 5854 Marine Dr\, West Vancouver\, BC\, V7W 2S2\, Canada
CATEGORIES:Sailboat Races (SARC)
END:VEVENT
BEGIN:VEVENT
DTSTART;VALUE=DATE:20221015
DTEND;VALUE=DATE:20221017
DTSTAMP:20260420T093116
CREATED:20220822T192205Z
LAST-MODIFIED:20220822T192205Z
UID:10001066-1665792000-1665964799@48north.com
SUMMARY:Pumpkin Regatta
DESCRIPTION:
URL:https://48north.com/event-calendar/pumpkin-regatta-3/
LOCATION:West Vancouver Yacht Club\, 5854 Marine Dr\, West Vancouver\, BC\, V7W 2S2\, Canada
CATEGORIES:Sailboat Races (SARC)
END:VEVENT
BEGIN:VEVENT
DTSTART;VALUE=DATE:20220828
DTEND;VALUE=DATE:20220829
DTSTAMP:20260420T093116
CREATED:20220822T183709Z
LAST-MODIFIED:20220822T183709Z
UID:10000622-1661644800-1661731199@48north.com
SUMMARY:Jack & Jill Race (VARC)
DESCRIPTION:
URL:https://48north.com/event-calendar/jack-jill-race-varc-2/
LOCATION:West Vancouver Yacht Club\, 5854 Marine Dr\, West Vancouver\, BC\, V7W 2S2\, Canada
CATEGORIES:Sailboat Races (SARC)
END:VEVENT
BEGIN:VEVENT
DTSTART;VALUE=DATE:20220430
DTEND;VALUE=DATE:20220501
DTSTAMP:20260420T093116
CREATED:20220103T192839Z
LAST-MODIFIED:20220103T192839Z
UID:10000971-1651276800-1651363199@48north.com
SUMMARY:Collingwood/Halibut Bank (VARC)
DESCRIPTION:The West Vancouver Yacht Club hosts this race to Collingwood /Halibut Bank every other year. Join them in the clubhouse after racing for a BBQ dinner and social. Win some great giveaways and swag from Helly Hansen\, Mustang\, North Sails\, and more. Race fee is between $30 and $50.
URL:https://48north.com/event-calendar/collingwood-halibut-bank-varc/
LOCATION:West Vancouver Yacht Club\, 5854 Marine Dr\, West Vancouver\, BC\, V7W 2S2\, Canada
CATEGORIES:Sailboat Races (SARC)
END:VEVENT
BEGIN:VEVENT
DTSTART;VALUE=DATE:20220415
DTEND;VALUE=DATE:20220418
DTSTAMP:20260420T093116
CREATED:20220103T192402Z
LAST-MODIFIED:20220103T192402Z
UID:10000956-1649980800-1650239999@48north.com
SUMMARY:Southern Straits Classic (VARC) (48N Top 25)
DESCRIPTION:The Southern Straits Classic is part of the Vancouver Area Racing Circuit (VARC). It has short\, medium\, and long courses ranging from 75 to 145 nautical miles. The registration fee is by foot with an early bird maximum cost of $288 and standard cost of $360.
URL:https://48north.com/event-calendar/southern-straits-classic-varc-48n-top-25-3/
LOCATION:West Vancouver Yacht Club\, 5854 Marine Dr\, West Vancouver\, BC\, V7W 2S2\, Canada
CATEGORIES:Sailboat Races (SARC)
END:VEVENT
BEGIN:VEVENT
DTSTART;VALUE=DATE:20211212
DTEND;VALUE=DATE:20211213
DTSTAMP:20260420T093116
CREATED:20201222T161043Z
LAST-MODIFIED:20201222T161043Z
UID:10000911-1639267200-1639353599@48north.com
SUMMARY:Snowflake 4
DESCRIPTION:
URL:https://48north.com/event-calendar/snowflake-4/
LOCATION:West Vancouver Yacht Club\, 5854 Marine Dr\, West Vancouver\, BC\, V7W 2S2\, Canada
CATEGORIES:Sailboat Races (SARC)
END:VEVENT
BEGIN:VEVENT
DTSTART;VALUE=DATE:20211128
DTEND;VALUE=DATE:20211129
DTSTAMP:20260420T093116
CREATED:20201222T161039Z
LAST-MODIFIED:20201222T161039Z
UID:10000905-1638057600-1638143999@48north.com
SUMMARY:Snowflake 3
DESCRIPTION:
URL:https://48north.com/event-calendar/snowflake-3/
LOCATION:West Vancouver Yacht Club\, 5854 Marine Dr\, West Vancouver\, BC\, V7W 2S2\, Canada
CATEGORIES:Sailboat Races (SARC)
END:VEVENT
BEGIN:VEVENT
DTSTART;VALUE=DATE:20211114
DTEND;VALUE=DATE:20211115
DTSTAMP:20260420T093116
CREATED:20201222T161031Z
LAST-MODIFIED:20201222T161031Z
UID:10000510-1636848000-1636934399@48north.com
SUMMARY:Snowflake 2
DESCRIPTION:
URL:https://48north.com/event-calendar/snowflake-2/
LOCATION:West Vancouver Yacht Club\, 5854 Marine Dr\, West Vancouver\, BC\, V7W 2S2\, Canada
CATEGORIES:Sailboat Races (SARC)
END:VEVENT
BEGIN:VEVENT
DTSTART;VALUE=DATE:20211031
DTEND;VALUE=DATE:20211101
DTSTAMP:20260420T093116
CREATED:20201222T161026Z
LAST-MODIFIED:20201222T161026Z
UID:10000901-1635638400-1635724799@48north.com
SUMMARY:Snowflake 1
DESCRIPTION:
URL:https://48north.com/event-calendar/snowflake-1/
LOCATION:West Vancouver Yacht Club\, 5854 Marine Dr\, West Vancouver\, BC\, V7W 2S2\, Canada
CATEGORIES:Sailboat Races (SARC)
END:VEVENT
BEGIN:VEVENT
DTSTART;VALUE=DATE:20211016
DTEND;VALUE=DATE:20211018
DTSTAMP:20260420T093116
CREATED:20201222T161012Z
LAST-MODIFIED:20201222T161012Z
UID:10000499-1634342400-1634515199@48north.com
SUMMARY:Pumpkin Regatta
DESCRIPTION:
URL:https://48north.com/event-calendar/pumpkin-regatta-2/
LOCATION:West Vancouver Yacht Club\, 5854 Marine Dr\, West Vancouver\, BC\, V7W 2S2\, Canada
CATEGORIES:Sailboat Races (SARC)
END:VEVENT
BEGIN:VEVENT
DTSTART;VALUE=DATE:20210918
DTEND;VALUE=DATE:20210920
DTSTAMP:20260420T093116
CREATED:20201222T160937Z
LAST-MODIFIED:20201222T160937Z
UID:10000469-1631923200-1632095999@48north.com
SUMMARY:Howe Sound Regatta (VARC)
DESCRIPTION:
URL:https://48north.com/event-calendar/howe-sound-regatta-varc-2/
LOCATION:West Vancouver Yacht Club\, 5854 Marine Dr\, West Vancouver\, BC\, V7W 2S2\, Canada
CATEGORIES:Sailboat Races (SARC)
END:VEVENT
BEGIN:VEVENT
DTSTART;VALUE=DATE:20210829
DTEND;VALUE=DATE:20210830
DTSTAMP:20260420T093116
CREATED:20201222T160910Z
LAST-MODIFIED:20201222T160910Z
UID:10000450-1630195200-1630281599@48north.com
SUMMARY:Jack & Jill Race (VARC)
DESCRIPTION:
URL:https://48north.com/event-calendar/jack-jill-race-varc/
LOCATION:West Vancouver Yacht Club\, 5854 Marine Dr\, West Vancouver\, BC\, V7W 2S2\, Canada
CATEGORIES:Sailboat Races (SARC)
END:VEVENT
BEGIN:VEVENT
DTSTART;VALUE=DATE:20210821
DTEND;VALUE=DATE:20210823
DTSTAMP:20260420T093116
CREATED:20201222T160901Z
LAST-MODIFIED:20201222T160901Z
UID:10000766-1629504000-1629676799@48north.com
SUMMARY:Crystal Cup Women's Only Regatta
DESCRIPTION:
URL:https://48north.com/event-calendar/crystal-cup-womens-only-regatta/
LOCATION:West Vancouver Yacht Club\, 5854 Marine Dr\, West Vancouver\, BC\, V7W 2S2\, Canada
CATEGORIES:Sailboat Races (SARC)
END:VEVENT
BEGIN:VEVENT
DTSTART;VALUE=DATE:20210501
DTEND;VALUE=DATE:20210502
DTSTAMP:20260420T093116
CREATED:20201222T160727Z
LAST-MODIFIED:20201222T160727Z
UID:10000659-1619827200-1619913599@48north.com
SUMMARY:Halibut/Collingwood Race (VARC)
DESCRIPTION:The West Vancouver Yacht Club hosts this race to Halibut Bank every other year. Win some great giveaways and swag from Helly Hansen\, Mustang\, North Sails\, and more.
URL:https://48north.com/event-calendar/halibut-collingwood-race-varc/
LOCATION:West Vancouver Yacht Club\, 5854 Marine Dr\, West Vancouver\, BC\, V7W 2S2\, Canada
CATEGORIES:Sailboat Races (SARC)
END:VEVENT
BEGIN:VEVENT
DTSTART;VALUE=DATE:20210402
DTEND;VALUE=DATE:20210405
DTSTAMP:20260420T093116
CREATED:20201222T160705Z
LAST-MODIFIED:20201222T160705Z
UID:10000350-1617321600-1617580799@48north.com
SUMMARY:Southern Straits Classic (VARC) (48N Top 25)
DESCRIPTION:The Southern Straits Classic is part of the Vancouver Area Racing Circuit (VARC). It has short\, medium\, and long courses ranging from 75 to 145 nautical miles. The registration fee is by foot with an early bird discount.
URL:https://48north.com/event-calendar/southern-straits-classic-varc-48n-top-25-2/
LOCATION:West Vancouver Yacht Club\, 5854 Marine Dr\, West Vancouver\, BC\, V7W 2S2\, Canada
CATEGORIES:Sailboat Races (SARC)
END:VEVENT
BEGIN:VEVENT
DTSTART;VALUE=DATE:20201018
DTEND;VALUE=DATE:20201019
DTSTAMP:20260420T093116
CREATED:20200317T181817Z
LAST-MODIFIED:20200317T182708Z
UID:10000511-1602979200-1603065599@48north.com
SUMMARY:Pumpkin Regatta
DESCRIPTION:
URL:https://48north.com/event-calendar/pumpkin-regatta/
LOCATION:West Vancouver Yacht Club\, 5854 Marine Dr\, West Vancouver\, BC\, V7W 2S2\, Canada
CATEGORIES:Sailboat Races (SARC)
END:VEVENT
BEGIN:VEVENT
DTSTART;VALUE=DATE:20200927
DTEND;VALUE=DATE:20200928
DTSTAMP:20260420T093116
CREATED:20200317T181802Z
LAST-MODIFIED:20200317T182736Z
UID:10000500-1601164800-1601251199@48north.com
SUMMARY:Fall Stag Race
DESCRIPTION:
URL:https://48north.com/event-calendar/fall-stag-race/
LOCATION:West Vancouver Yacht Club\, 5854 Marine Dr\, West Vancouver\, BC\, V7W 2S2\, Canada
CATEGORIES:Sailboat Races (SARC)
END:VEVENT
BEGIN:VEVENT
DTSTART;VALUE=DATE:20200920
DTEND;VALUE=DATE:20200921
DTSTAMP:20260420T093116
CREATED:20200317T181751Z
LAST-MODIFIED:20200317T182841Z
UID:10000480-1600560000-1600646399@48north.com
SUMMARY:Howe Sound Regatta (VARC)
DESCRIPTION:
URL:https://48north.com/event-calendar/howe-sound-regatta-varc/
LOCATION:West Vancouver Yacht Club\, 5854 Marine Dr\, West Vancouver\, BC\, V7W 2S2\, Canada
CATEGORIES:Sailboat Races (SARC)
END:VEVENT
BEGIN:VEVENT
DTSTART;VALUE=DATE:20200830
DTEND;VALUE=DATE:20200831
DTSTAMP:20260420T093116
CREATED:20200317T181704Z
LAST-MODIFIED:20200317T183022Z
UID:10000437-1598745600-1598831999@48north.com
SUMMARY:Jack & Jill Race
DESCRIPTION:
URL:https://48north.com/event-calendar/jack-jill-race/
LOCATION:West Vancouver Yacht Club\, 5854 Marine Dr\, West Vancouver\, BC\, V7W 2S2\, Canada
CATEGORIES:Sailboat Races (SARC)
END:VEVENT
BEGIN:VEVENT
DTSTART;VALUE=DATE:20200524
DTEND;VALUE=DATE:20200525
DTSTAMP:20260420T093116
CREATED:20200317T181517Z
LAST-MODIFIED:20200317T183641Z
UID:10000337-1590278400-1590364799@48north.com
SUMMARY:Women's Race and Cruise
DESCRIPTION:The 13th annual Women’s Race and Cruise organized by the West Vancouver Yacht Club takes both competitive sailors and powerboaters from the club to Elliott Bay Marina over a weekend. Cost per person to be announced.
URL:https://48north.com/event-calendar/womens-race-and-cruise/
LOCATION:West Vancouver Yacht Club\, 5854 Marine Dr\, West Vancouver\, BC\, V7W 2S2\, Canada
CATEGORIES:Sailboat Races (SARC)
END:VEVENT
BEGIN:VEVENT
DTSTART;TZID=America/Los_Angeles:20200502T110000
DTEND;TZID=America/Los_Angeles:20200502T140000
DTSTAMP:20260420T093116
CREATED:20200317T181013Z
LAST-MODIFIED:20200317T183806Z
UID:10000019-1588417200-1588428000@48north.com
SUMMARY:Halibut Bank/Popham Island Race (VARC)
DESCRIPTION:The West Vancouver Yacht Club hosts this race to Halibut Bank every other year. Join them in the clubhouse after racing for a BBQ dinner and social. Win some great giveaways and swag from Helly Hansen\, Mustang\, North Sails\, and more. Race fee is between $30 and $50.
URL:https://48north.com/event-calendar/halibut-bank-popham-island-race-varc/
LOCATION:West Vancouver Yacht Club\, 5854 Marine Dr\, West Vancouver\, BC\, V7W 2S2\, Canada
CATEGORIES:Sailboat Races (SARC)
END:VEVENT
BEGIN:VEVENT
DTSTART;TZID=America/Los_Angeles:20200422T180000
DTEND;TZID=America/Los_Angeles:20200422T180000
DTSTAMP:20260420T093116
CREATED:20200317T181023Z
LAST-MODIFIED:20200317T183827Z
UID:10000191-1587578400-1587578400@48north.com
SUMMARY:West Vancouver Yacht Club Wednesday Series
DESCRIPTION:The West Vancouver Yacht Club organizes a Wednesday evening race series April through September. The races are broken up into five-race series. Pricing varies between members and non-members\, and between single races and series.
URL:https://48north.com/event-calendar/west-vancouver-yacht-club-wednesday-series/
LOCATION:West Vancouver Yacht Club\, 5854 Marine Dr\, West Vancouver\, BC\, V7W 2S2\, Canada
CATEGORIES:Sailboat Races (SARC)
END:VEVENT
BEGIN:VEVENT
DTSTART;TZID=America/Los_Angeles:20200411T103000
DTEND;TZID=America/Los_Angeles:20200412T013000
DTSTAMP:20260420T093116
CREATED:20200317T181002Z
LAST-MODIFIED:20200317T183854Z
UID:10000135-1586601000-1586655000@48north.com
SUMMARY:Southern Straits Classic (VARC) (48N Top 25)
DESCRIPTION:The Southern Straits Classic is part of the Vancouver Area Racing Circuit (VARC). It has short\, medium\, and long courses ranging from 75 to 145 nautical miles. The registration fee is by foot with an early bird maximum cost of $288 and standard cost of $360.
URL:https://48north.com/event-calendar/southern-straits-classic-varc-48n-top-25/
LOCATION:West Vancouver Yacht Club\, 5854 Marine Dr\, West Vancouver\, BC\, V7W 2S2\, Canada
CATEGORIES:Sailboat Races (SARC)
END:VEVENT
END:VCALENDAR